BEGIN:VCALENDAR
VERSION:2.0
PRODID:-//A Rocha Nederland - ECPv6.15.20//NONSGML v1.0//EN
CALSCALE:GREGORIAN
METHOD:PUBLISH
X-WR-CALNAME:A Rocha Nederland
X-ORIGINAL-URL:https://www.arocha.nl
X-WR-CALDESC:Evenementen voor A Rocha Nederland
REFRESH-INTERVAL;VALUE=DURATION:PT1H
X-Robots-Tag:noindex
X-PUBLISHED-TTL:PT1H
BEGIN:VTIMEZONE
TZID:Europe/London
BEGIN:DAYLIGHT
TZOFFSETFROM:+0000
TZOFFSETTO:+0100
TZNAME:BST
DTSTART:20240331T010000
END:DAYLIGHT
BEGIN:STANDARD
TZOFFSETFROM:+0100
TZOFFSETTO:+0000
TZNAME:GMT
DTSTART:20241027T010000
END:STANDARD
BEGIN:DAYLIGHT
TZOFFSETFROM:+0000
TZOFFSETTO:+0100
TZNAME:BST
DTSTART:20250330T010000
END:DAYLIGHT
BEGIN:STANDARD
TZOFFSETFROM:+0100
TZOFFSETTO:+0000
TZNAME:GMT
DTSTART:20251026T010000
END:STANDARD
BEGIN:DAYLIGHT
TZOFFSETFROM:+0000
TZOFFSETTO:+0100
TZNAME:BST
DTSTART:20260329T010000
END:DAYLIGHT
BEGIN:STANDARD
TZOFFSETFROM:+0100
TZOFFSETTO:+0000
TZNAME:GMT
DTSTART:20261025T010000
END:STANDARD
BEGIN:DAYLIGHT
TZOFFSETFROM:+0000
TZOFFSETTO:+0100
TZNAME:BST
DTSTART:20270328T010000
END:DAYLIGHT
BEGIN:STANDARD
TZOFFSETFROM:+0100
TZOFFSETTO:+0000
TZNAME:GMT
DTSTART:20271031T010000
END:STANDARD
END:VTIMEZONE
BEGIN:VEVENT
DTSTART;TZID=Europe/London:20260417T140000
DTEND;TZID=Europe/London:20260417T210000
DTSTAMP:20260423T122430
CREATED:20260223T101051Z
LAST-MODIFIED:20260402T153401Z
UID:10000315-1776434400-1776459600@www.arocha.nl
SUMMARY:Groene geloofsrituelendag
DESCRIPTION:Bloesembomen in december\, insectensterfte\, verbleekt koraal\, smeltende gletsjers… De ecologische crises kunnen je dagelijks flink overweldigen. Hoe kunnen we daarmee omgaan? En hebben we in de plaats van een rationeel of theologisch antwoord niet vooral een spiritueel antwoord nodig? \nWe hebben rituelen nodig om weer ten diepste te kunnen ervaren wat onze plek en rol is in de wereld en om herinnerd te worden aan het grotere geheel waar we deel van uitmaken: een prachtige schepping\, met Liefde gemaakt door een aanwezige en betrokken Schepper. \nDaarom organiseren Laudato SI’ Alliantie NL\, GroeneKerken en A Rocha NL op vrijdag 17 een unieke rituelendag bij de Eemvallei Oase. Samen met geestelijk verzorgers\, voorgangers en groene pioniers oefenen we met het toepassen van groene geloofsrituelen. We lanceren op vrijdag ook de Liturgische handreiking Groene geloofsrituelen – een praktische inspiratiegids met twaalf voorbeelden van rituelen om zelf toe te passen in de eigen kerk of parochie. \nWat kun je verwachten?\nDe Laudato Si’ Alliantie\, A Rocha en GroeneKerken lanceren hun Liturgische Handreiking\, met voorbeelden van groene geloofsrituelen uit verschillende christelijke stromingen\, bedoeld voor in de kerk of daarbuiten. Maar we presenteren het niet alleen\, we bieden onze gasten ook graag de gelegenheid om de rituelen te ervaren en ermee te oefenen. Bekijk hier alvast twee rituelen van de handleiding. \nVrijdag 17 april (14.00-21.00):\n 14.30-15.00: openingsritueel (ritueel 1)\n15.00-15.30: koffie\, thee en even rondkijken\n15.30-17.00: lancering Liturgische Handreiking\, incl. ritueel 2\n17.00-18.00: buiten koken en/of wandeling\n18.00-20.00: Agape-maaltijd (ritueel 3)\n20.00-21.00: ritueel 4 \nWaar:\nDe Natuurkapel @ Eemlandhoeve: Bisschopsweg 7 te Bunschoten. \nVoor wie:\nDit event is speciaal bedoeld voor geestelijk verzorgers\, filosofen\, wetenschappers\, theologen\, groene pioniers\, kerkelijk werkers\, voorgangers en kerkleiders. Stuur de uitnodiging gerust door naar mensen in jullie omgeving voor wie dit relevant is. \nLet op:\n– Het maximaal aantal gasten is 50. Wil je er graag bij zijn? Wees dan op tijd met het kopen van je ticket.\n– Goed om te weten: ons buitenterrein kan wat modderig zijn\, wat mogelijk lastig is als je slecht ter been bent. Zit je in een rolstoel en wil je er graag bij zijn? Neem dan contact op om te overleggen wat/hoe dat mogelijk is.\n– Bij het reserveren van je ticket betaal je voor het programma (€ 29\,50).\n– We hebben enkele tickets met een gereduceerd tarief voor mensen met een kleine beurs. Neem gerust contact op via welkom@eemvallei-oase.nl. \n  \nTickets: https://www.eemvallei-oase.nl/product/groene-rituelen/
URL:https://www.arocha.nl/event/groene-geloofsrituelenweekend/
LOCATION:Eemlandhoeve\, Bisschopsweg 7\, Bunschoten
CATEGORIES:A Rocha Nederland
ATTACH;FMTTYPE=image/png:https://www.arocha.nl/wp-content/uploads/sites/35/2026/02/Scherm­afbeelding-2026-03-30-om-12.59.22.png
ORGANIZER;CN="A Rocha Nederland":MAILTO:nederland@arocha.org
END:VEVENT
BEGIN:VEVENT
DTSTART;TZID=Europe/London:20260411T100000
DTEND;TZID=Europe/London:20260411T160000
DTSTAMP:20260423T122430
CREATED:20260225T135948Z
LAST-MODIFIED:20260319T161626Z
UID:10000318-1775901600-1775923200@www.arocha.nl
SUMMARY:Geannuleerd - Lancering A Rocha Partnerprogramma VoedselBos De Pelgrim - Bellingwolde
DESCRIPTION:Dit event is geannuleerd en zal op een later moment plaatsvinden. \nVoedselBos De Pelgrim in Bellingwolde is de eerste officiële partner van het A Rocha Partnerprogramma ‘Samen voor natuur’. Dit programma verbindt christelijke organisaties en landeigenaren die zich inzetten voor natuurbescherming en het herstel van biodiversiteit. Met deze samenwerking wordt het startsein gegeven voor een groeiend netwerk dat actief bijdraagt aan zorg voor de schepping. \nEigenaren Anita en Dorine realiseren met VoedselBos De Pelgrim een vruchtbaar\, levendig bos waar mens en dier genieten van alles wat er te zien\, te beleven en te proeven is. Het bos is een plek van rust\, ontdekking en leren over biologisch voedsel\, voor kinderen en volwassenen. De biodiversiteit is hier enorm toegenomen\, met soorten die eerder verdwenen leken uit de omgeving. Een bos vol smaken\, geuren en kleuren\, en een inspirerend voorbeeld voor anderen. \n 
URL:https://www.arocha.nl/event/lancering-a-rocha-partnerprogramma-voedselbos-de-pelgrim-bellingwolde/
LOCATION:Voedselbos De Pelgrim\, 1e Bovenstreeklaan 1\, Bellingwolde\, 9695 BN
CATEGORIES:A Rocha Assen,A Rocha Het Hogeland,A Rocha Midden-Groningen,A Rocha Partner
ATTACH;FMTTYPE=image/png:https://www.arocha.nl/wp-content/uploads/sites/35/2026/02/lancering-A-Rocha-Partnerprogramma-1.png
ORGANIZER;CN="A Rocha Nederland":MAILTO:nederland@arocha.org
END:VEVENT
BEGIN:VEVENT
DTSTART;TZID=Europe/London:20251026T100000
DTEND;TZID=Europe/London:20251026T170000
DTSTAMP:20260423T122430
CREATED:20251021T110740Z
LAST-MODIFIED:20251022T110235Z
UID:10000259-1761472800-1761498000@www.arocha.nl
SUMMARY:Klimaatmars en kerkdienst
DESCRIPTION:Duizenden mensen gaan zondag 26 oktober de straat op om aandacht te vragen voor de natuur en klimaatrechtvaardigheid. Het is nu tijd voor de broodnodige actie om de klimaatcrisis en de biodiversiteitscrisis een halt toe te roepen. \nOok als A Rocha Nederland lopen we mee om de aandacht te vragen voor het belang van het behoud van biodiversiteit én klimaatrechtvaardighed. Dit doen we samen met een tal van andere christelijke organisaties. \nBlok Christenen voor klimaatrechtvaardigheid\nOp 26 oktober zullen veel mensen samenstromen in Den Haag. Binnen deze grote groep vormen ‘Christenen voor klimaatrechtvaardigheid’ een apart blok\, waar je je bij kan voegen. Zo zijn er meerdere blokken met mensen die met hetzelfde doel meedoen aan de Klimaatmars – zoals bijvoorbeeld mensen die zich hard maken voor klimaatbeleid vanwege zorg en gezondheid\, voor hun kinderen\, of vanuit de wetenschap. \nHet blok ‘Christenen voor klimaatrechtvaardigheid’ is voor alle mensen die geloven in zorg voor de Schepping en zich daarvoor (willen) inzetten. Uit overtuiging kiest ‘Christenen voor klimaatrechtvaardigheid’ voor zorgzame omgang met al wat leeft en solidariteit met de zwakkeren. Dit blok wordt georganiseerd door A Rocha Nederland\, Micha Nederland\, Laudato Si’ Alliantie Nederland\, Climate Stewards Nederland\, Christian Climate Action en Groene Kerken. \nOm 10.00 uur start er in de Christus Triumfator kerk in Den Haag een speciale klimaatkerkdienst. In deze dienst gaat Bettelies Westerbeek voor.\nAdres: Juliana van Stolberglaan 154\, 2593 BM Den Haag \nVanuit hier lopen we met de aanwezigen die mee willen naar de klimaatmars naar ons verzamelpunt. \nWees welkom en loop mee. Meer informatie is te lezen op de site van Christian Climate Action. \nKlimaatmars – Den Haag – christelijk blok \n \n 
URL:https://www.arocha.nl/event/klimaatmars-kerkdienst/
CATEGORIES:A Rocha Nederland
ATTACH;FMTTYPE=image/png:https://www.arocha.nl/wp-content/uploads/sites/35/2025/10/Poster-Klimaatmars-2025-1-scaled-1-1086x1536-1.png
ORGANIZER;CN="A Rocha Nederland":MAILTO:nederland@arocha.org
END:VEVENT
BEGIN:VEVENT
DTSTART;VALUE=DATE:20250814
DTEND;VALUE=DATE:20250818
DTSTAMP:20260423T122430
CREATED:20250614T090640Z
LAST-MODIFIED:20250716T132022Z
UID:10000189-1755129600-1755475199@www.arocha.nl
SUMMARY:A Rocha op Graceland Festival
DESCRIPTION:Dit jaar is A Rocha te vinden op Graceland Festival! \nWe hebben een toffe waterleven excursie\, op \n\n\n\nVrijdag 15 augustus\n10:00 – 11:00\nVeld\n\n\nZaterdag 16 augustus\n12:00 – 13:00\nVeld\n\n\nVrijdag 15 augustus\n15:00 – 16:00\nVeld\n\n\n\nJe kunt waterdiertjes onderzoeken bij het watercircuit\, op \n\n\n\nVrijdag 15 augustus\n15:30 – 17:00\nKinderdorp\n\n\n\nEn je kunt een wilderniskerk beleven\, op \n\n\n\nZaterdag 16 augustus\n20:00 – 21:00\nVeld\n\n\nVrijdag 15 augustus\n20:00 – 21:00\nVeld\n\n\n\nKom je ook? Alle info vind je op gracelandfestival.nl
URL:https://www.arocha.nl/event/a-rocha-op-graceland-festival/
LOCATION:Scoutinglandgoed Zeewolde\, Nulderpad 5\, Zeewolder
CATEGORIES:A Rocha Nederland,Excursie,wandeling,wilderniskerk / forest church
ATTACH;FMTTYPE=image/png:https://www.arocha.nl/wp-content/uploads/sites/35/2025/06/Scherm­afbeelding-2025-06-14-om-10.59.57.png
ORGANIZER;CN="A Rocha Nederland":MAILTO:nederland@arocha.org
END:VEVENT
BEGIN:VEVENT
DTSTART;TZID=Europe/London:20250806T090000
DTEND;TZID=Europe/London:20250806T160000
DTSTAMP:20260423T122430
CREATED:20250707T143844Z
LAST-MODIFIED:20250707T143844Z
UID:10000203-1754470800-1754496000@www.arocha.nl
SUMMARY:doe mee woensdag zomerweek
DESCRIPTION:Op de doe-mee-dag kun je de sfeer proeven van de zomerweek en een dagje meedraaien. In de ochtend doe je mee met het natuurwerk en in de middag is er inhoudelijke verdieping. Wij hebben een agrariër uitgenodigd die gaat vertellen over zijn omgang met de grond. Hij neemt zijn grondboor mee\, en we gaan ons verwonderen over het bodemleven. Ook organiseren we een kleine lezing\, als verdieping op het thema. Natuurlijk ontbreken een gezellige lunch en een kop thee als afsluiting van de dag niet aan het programma. \nJe bent van harte welkom om de dag met ons mee te maken! Er zijn geen kosten aan verbonden. \nMeld je aan vóór 1 augustus! Meer info en opgeven
URL:https://www.arocha.nl/event/doe-mee-woensdag-zomerweek/
LOCATION:Natuurkampeerterrein Distelheide\, Stadsheidelaan 4\, Doetinchem\, 7004 JE\, Nederland
CATEGORIES:A Rocha Nederland,Excursie
ATTACH;FMTTYPE=image/jpeg:https://www.arocha.nl/wp-content/uploads/sites/35/2024/05/zomerweek-1-scaled.jpg
ORGANIZER;CN="A Rocha Nederland":MAILTO:nederland@arocha.org
END:VEVENT
BEGIN:VEVENT
DTSTART;VALUE=DATE:20250802
DTEND;VALUE=DATE:20250810
DTSTAMP:20260423T122430
CREATED:20241205T131347Z
LAST-MODIFIED:20250423T124603Z
UID:10000102-1754092800-1754783999@www.arocha.nl
SUMMARY:A Rocha zomer natuurweek
DESCRIPTION:In 2025 organiseren we opnieuw een natuurweek! Van 2 tot en met 9 augustus kun je meedoen met een kampeerweek vol afwisseling van werk in de natuur\, gezelligheid\, stilte en genieten in de prachtige Achterhoek.\nOnze uitvalsbasis voor de natuurweek is Natuurkampeerterrein Distelheide. Onder leiding van de boswachter van Staatsbosbeheer werken we mee aan het in stand houden van de bijzondere biodiversiteit rondom het 17e-eeuwse Landgoed Slangenburg. \nIedereen – van jong tot oud – kan op zijn of haar eigen tempo een steentje bij dragen aan een gezamenlijke klus in het bos of op de hei. De boswachter zal ons uitgebreid vertellen wat we moeten doen\, maar vooral ook waarom. ’s Ochtends werken we in de natuur. ’s Middags is er tijd om uit te rusten\, creatief te zijn of mee te doen aan andere actieve of educatieve activiteiten. We eten regelmatig samen\, doen gezellig samen corvee en sluiten elke dag – voor jong en oud – af met bezinning en gebed.\n\nDe natuurweek is geschikt voor letterlijk alle leeftijden. Jong en oud zijn van harte welkom.\nGa je mee deze zomer? Meer info en aanmelden
URL:https://www.arocha.nl/event/a-rocha-zomer-natuurweek/
LOCATION:Natuurkampeerterrein Distelheide\, Stadsheidelaan 4\, Doetinchem\, 7004 JE\, Nederland
CATEGORIES:A Rocha Nederland
ATTACH;FMTTYPE=image/png:https://www.arocha.nl/wp-content/uploads/sites/35/2024/08/Scherm­afbeelding-2024-08-29-om-15.41.37.png
ORGANIZER;CN="A Rocha Nederland":MAILTO:nederland@arocha.org
END:VEVENT
END:VCALENDAR