BEGIN:VCALENDAR
VERSION:2.0
PRODID:-//A Rocha Nederland - ECPv6.15.20//NONSGML v1.0//EN
CALSCALE:GREGORIAN
METHOD:PUBLISH
X-WR-CALNAME:A Rocha Nederland
X-ORIGINAL-URL:https://www.arocha.nl
X-WR-CALDESC:Evenementen voor A Rocha Nederland
REFRESH-INTERVAL;VALUE=DURATION:PT1H
X-Robots-Tag:noindex
X-PUBLISHED-TTL:PT1H
BEGIN:VTIMEZONE
TZID:Europe/London
BEGIN:DAYLIGHT
TZOFFSETFROM:+0000
TZOFFSETTO:+0100
TZNAME:BST
DTSTART:20250330T010000
END:DAYLIGHT
BEGIN:STANDARD
TZOFFSETFROM:+0100
TZOFFSETTO:+0000
TZNAME:GMT
DTSTART:20251026T010000
END:STANDARD
BEGIN:DAYLIGHT
TZOFFSETFROM:+0000
TZOFFSETTO:+0100
TZNAME:BST
DTSTART:20260329T010000
END:DAYLIGHT
BEGIN:STANDARD
TZOFFSETFROM:+0100
TZOFFSETTO:+0000
TZNAME:GMT
DTSTART:20261025T010000
END:STANDARD
BEGIN:DAYLIGHT
TZOFFSETFROM:+0000
TZOFFSETTO:+0100
TZNAME:BST
DTSTART:20270328T010000
END:DAYLIGHT
BEGIN:STANDARD
TZOFFSETFROM:+0100
TZOFFSETTO:+0000
TZNAME:GMT
DTSTART:20271031T010000
END:STANDARD
END:VTIMEZONE
BEGIN:VEVENT
DTSTART;TZID=Europe/London:20260509T093000
DTEND;TZID=Europe/London:20260509T123000
DTSTAMP:20260421T093708
CREATED:20251228T201307Z
LAST-MODIFIED:20260324T065502Z
UID:10000281-1778319000-1778329800@www.arocha.nl
SUMMARY:Natuurwerkochtend in het voedselbos
DESCRIPTION:We gaan dit keer aan de slag in het voedselbos dat verscholen ligt in het oosten van het Goudse Hout. In dit voedselbos wordt volgens de principes van permacultuur door vrijwilligers gewerkt in en aan een mooie natuurlijke omgeving.\nHier worden allerlei nuttige planten\, struiken en bomen verbouwd. Bijvoorbeeld voor voeding of kruidenthee\, maar ook voor het vlechten van manden\, of het maken van verfstoffen. \nHet voedselbos is niet alleen belangrijk voor de ontwikkeling van de biodiversiteit. Het is ook een ontmoetingsplaats voor mensen. Kom je ons ook helpen? \nWij zorgen voor koffie\, thee en wat lekkers\, graag zelf een kop of mok meenemen. Trek stevige laarzen aan\, het gebied kan nat zijn.  \nMeld je aan via: groene.hart@arocha.org
URL:https://www.arocha.nl/event/natuurwerkochtend-in-het-voedselbos/
LOCATION:Voedselbos Goudse Hout\, Kruising Willenskade\, Kale jonkerpad\, Gouda\, 2805 HL
CATEGORIES:A Rocha Groene Hart,natuurwerkdag
ATTACH;FMTTYPE=image/jpeg:https://www.arocha.nl/wp-content/uploads/sites/35/2025/12/A-Rocha-vacature_3-1536x1024-VIERKANT.jpg
ORGANIZER;CN="A Rocha Groene Hart":MAILTO:groene.hart@arocha.org
END:VEVENT
BEGIN:VEVENT
DTSTART;TZID=Europe/London:20260620T210000
DTEND;TZID=Europe/London:20260620T230000
DTSTAMP:20260421T093708
CREATED:20251228T202240Z
LAST-MODIFIED:20251228T202240Z
UID:10000282-1781989200-1781996400@www.arocha.nl
SUMMARY:Kortste Nachtvertellingen
DESCRIPTION:Op zaterdag 20 juni is de kortste nacht van het jaar! A Rocha Groene Hart organiseert dan de Kortste Nachtvertellingen in de Middelblokboezem. Op deze avond horen we verschillende verhalen en muziek.\nKom\, ontspan\, geniet en doe mee! \nTe midden van de rust en de natuurlijke geluiden in de boezem en rondom een knapperend vuur en een goed gevuld glas luisteren we naar de verhalen en de muziek. Je mag ook zelf verhalen meenemen om te vertellen of voor te lezen.  \nVoor drinken en wat lekkers wordt gezorgd. Neem zelf een kussen of stoeltje mee\, een fleece deken tegen opkomende kou en een glas voor het drinken. Een zaklamp is handig om de weg terug te vinden.  \nAls de weersvoorspellingen slecht zijn\, krijg je uiterlijk zaterdagochtend een afmeldingsbericht. Meld je daarom aan op groene.hart@arocha.org Als je zelf een verhaal of een lied wil laten horen\, laat het dan van tevoren even weten.  \nKom zoveel mogelijk met de fiets. Wie met de auto komt dan deze parkeren op de Groene Wetering in Gouderak. In ruim vijftien minuten loop je naar de Middelblokboezem over de Snippejagerskade de polder in en sla je bij de kruising linksaf de Tiendweg op. De Middelblokboezem ligt aan je linkerkant.
URL:https://www.arocha.nl/event/kortste-nachtvertellingen-2/
LOCATION:Middelblokboezem\, Lange Tiendweg\, Gouderak
CATEGORIES:A Rocha Groene Hart
ATTACH;FMTTYPE=image/jpeg:https://www.arocha.nl/wp-content/uploads/sites/35/2025/12/IMG-20240623-WA0012-1.jpg
ORGANIZER;CN="A Rocha Groene Hart":MAILTO:groene.hart@arocha.org
END:VEVENT
END:VCALENDAR