BEGIN:VCALENDAR
VERSION:2.0
PRODID:-//A Rocha Nederland - ECPv6.15.20//NONSGML v1.0//EN
CALSCALE:GREGORIAN
METHOD:PUBLISH
X-WR-CALNAME:A Rocha Nederland
X-ORIGINAL-URL:https://www.arocha.nl
X-WR-CALDESC:Evenementen voor A Rocha Nederland
REFRESH-INTERVAL;VALUE=DURATION:PT1H
X-Robots-Tag:noindex
X-PUBLISHED-TTL:PT1H
BEGIN:VTIMEZONE
TZID:Europe/London
BEGIN:DAYLIGHT
TZOFFSETFROM:+0000
TZOFFSETTO:+0100
TZNAME:BST
DTSTART:20240331T010000
END:DAYLIGHT
BEGIN:STANDARD
TZOFFSETFROM:+0100
TZOFFSETTO:+0000
TZNAME:GMT
DTSTART:20241027T010000
END:STANDARD
BEGIN:DAYLIGHT
TZOFFSETFROM:+0000
TZOFFSETTO:+0100
TZNAME:BST
DTSTART:20250330T010000
END:DAYLIGHT
BEGIN:STANDARD
TZOFFSETFROM:+0100
TZOFFSETTO:+0000
TZNAME:GMT
DTSTART:20251026T010000
END:STANDARD
BEGIN:DAYLIGHT
TZOFFSETFROM:+0000
TZOFFSETTO:+0100
TZNAME:BST
DTSTART:20260329T010000
END:DAYLIGHT
BEGIN:STANDARD
TZOFFSETFROM:+0100
TZOFFSETTO:+0000
TZNAME:GMT
DTSTART:20261025T010000
END:STANDARD
END:VTIMEZONE
BEGIN:VEVENT
DTSTART;TZID=Europe/London:20250906T100000
DTEND;TZID=Europe/London:20250906T133000
DTSTAMP:20260424T085956
CREATED:20250701T085702Z
LAST-MODIFIED:20250702T073746Z
UID:10000199-1757152800-1757165400@www.arocha.nl
SUMMARY:Appelsmulplukdag met A Rocha Groene Hart
DESCRIPTION:Een smakelijke activiteit voor jong en oud! \nWe gaan appels plukken in de boomgaard en maken ter plekke met de kinderen appelmoes van deze heerlijke biologische appels! \nWij zorgen voor koffie\, thee en wat lekkers. Neem zelf een aardappelschilmesje\, een lunchpakket en voor de kinderen een leeg jampotje mee. Als je appels mee wilt nemen is een tas of doos handig. \nWil je hier bij zijn? Meld je dan van tevoren aan op: groene.hart@arocha.org.
URL:https://www.arocha.nl/event/appelsmulplukdag-met-a-rocha-groene-hart/
LOCATION:Boomgaard  in Waddinxveen\, Noordeinde 118\, Waddinxveen\, Nederland
CATEGORIES:A Rocha Groene Hart,natuurwerkdag
ATTACH;FMTTYPE=image/jpeg:https://www.arocha.nl/wp-content/uploads/sites/35/2025/07/IMG-20220910-WA0015.jpg
ORGANIZER;CN="A Rocha Groene Hart":MAILTO:groene.hart@arocha.org
END:VEVENT
BEGIN:VEVENT
DTSTART;TZID=Europe/London:20250913T093000
DTEND;TZID=Europe/London:20250913T130000
DTSTAMP:20260424T085956
CREATED:20250701T091028Z
LAST-MODIFIED:20250701T113108Z
UID:10000200-1757755800-1757768400@www.arocha.nl
SUMMARY:Natuurwerkochtend met A Rocha Groene Hart
DESCRIPTION:Kom je ook genieten en werken in de Middelblokboezem? Ook kinderen zijn van harte welkom. Wij zorgen voor koffie\, thee en fris met iets lekkers erbij. \nMeld je van tevoren even aan: groene.hart@arocha.org \nKom zoveel mogelijk met de fiets. Wie met de auto komt kan deze parkeren op de Groene Wetering in Gouderak. In 15-20 minuten loop je naar de Middelblokboezem over de Snippejagerskade de polder in en sla je bij de kruising linksaf de Tiendweg op. De Middelblokboezem ligt aan je linkerkant.
URL:https://www.arocha.nl/event/natuurwerkochtend-met-a-rocha-groene-hart/
LOCATION:Middelblokboezem\, Lange Tiendweg\, Gouderak
CATEGORIES:A Rocha Groene Hart,natuurwerkdag
ATTACH;FMTTYPE=image/jpeg:https://www.arocha.nl/wp-content/uploads/sites/35/2025/07/20230701_102003-1-scaled.jpg
ORGANIZER;CN="A Rocha Groene Hart":MAILTO:groene.hart@arocha.org
END:VEVENT
END:VCALENDAR