BEGIN:VCALENDAR
VERSION:2.0
PRODID:-//A Rocha Nederland - ECPv6.15.20//NONSGML v1.0//EN
CALSCALE:GREGORIAN
METHOD:PUBLISH
X-ORIGINAL-URL:https://www.arocha.nl
X-WR-CALDESC:Evenementen voor A Rocha Nederland
REFRESH-INTERVAL;VALUE=DURATION:PT1H
X-Robots-Tag:noindex
X-PUBLISHED-TTL:PT1H
BEGIN:VTIMEZONE
TZID:Europe/London
BEGIN:DAYLIGHT
TZOFFSETFROM:+0000
TZOFFSETTO:+0100
TZNAME:BST
DTSTART:20240331T010000
END:DAYLIGHT
BEGIN:STANDARD
TZOFFSETFROM:+0100
TZOFFSETTO:+0000
TZNAME:GMT
DTSTART:20241027T010000
END:STANDARD
BEGIN:DAYLIGHT
TZOFFSETFROM:+0000
TZOFFSETTO:+0100
TZNAME:BST
DTSTART:20250330T010000
END:DAYLIGHT
BEGIN:STANDARD
TZOFFSETFROM:+0100
TZOFFSETTO:+0000
TZNAME:GMT
DTSTART:20251026T010000
END:STANDARD
BEGIN:DAYLIGHT
TZOFFSETFROM:+0000
TZOFFSETTO:+0100
TZNAME:BST
DTSTART:20260329T010000
END:DAYLIGHT
BEGIN:STANDARD
TZOFFSETFROM:+0100
TZOFFSETTO:+0000
TZNAME:GMT
DTSTART:20261025T010000
END:STANDARD
END:VTIMEZONE
BEGIN:VEVENT
DTSTART;TZID=Europe/London:20250914T153000
DTEND;TZID=Europe/London:20250914T170000
DTSTAMP:20260420T165526
CREATED:20250901T173225Z
LAST-MODIFIED:20250903T101555Z
UID:10000212-1757863800-1757869200@www.arocha.nl
SUMMARY:Viermoment in de Natuur | A Rocha Dronten
DESCRIPTION:Samen in de natuur een Viermoment meemaken\, doe je mee? We gaan verwonderen\, verstillen en voor de liefhebber creatief aan de slag.\nWe sluiten af met een picknick waarvoor ieder iets lekkers meeneemt zodat we samen een mooie ontmoeting hebben. Neem een stoeltje of kleedje mee om op te kunnen zitten
URL:https://www.arocha.nl/event/viermoment-in-de-natuur/
LOCATION:Parkeerplaats Wisentbos\, Wisentweg\, Dronten
CATEGORIES:A Rocha Dronten,wandeling
ATTACH;FMTTYPE=image/png:https://www.arocha.nl/wp-content/uploads/sites/35/2025/09/viermoment-dronten.png
ORGANIZER;CN="A Rocha Dronten":MAILTO:dronten@arocha.org
END:VEVENT
END:VCALENDAR