BEGIN:VCALENDAR
VERSION:2.0
PRODID:-//A Rocha Nederland - ECPv6.15.20//NONSGML v1.0//EN
CALSCALE:GREGORIAN
METHOD:PUBLISH
X-WR-CALNAME:A Rocha Nederland
X-ORIGINAL-URL:https://www.arocha.nl
X-WR-CALDESC:Evenementen voor A Rocha Nederland
REFRESH-INTERVAL;VALUE=DURATION:PT1H
X-Robots-Tag:noindex
X-PUBLISHED-TTL:PT1H
BEGIN:VTIMEZONE
TZID:Europe/London
BEGIN:DAYLIGHT
TZOFFSETFROM:+0000
TZOFFSETTO:+0100
TZNAME:BST
DTSTART:20240331T010000
END:DAYLIGHT
BEGIN:STANDARD
TZOFFSETFROM:+0100
TZOFFSETTO:+0000
TZNAME:GMT
DTSTART:20241027T010000
END:STANDARD
BEGIN:DAYLIGHT
TZOFFSETFROM:+0000
TZOFFSETTO:+0100
TZNAME:BST
DTSTART:20250330T010000
END:DAYLIGHT
BEGIN:STANDARD
TZOFFSETFROM:+0100
TZOFFSETTO:+0000
TZNAME:GMT
DTSTART:20251026T010000
END:STANDARD
BEGIN:DAYLIGHT
TZOFFSETFROM:+0000
TZOFFSETTO:+0100
TZNAME:BST
DTSTART:20260329T010000
END:DAYLIGHT
BEGIN:STANDARD
TZOFFSETFROM:+0100
TZOFFSETTO:+0000
TZNAME:GMT
DTSTART:20261025T010000
END:STANDARD
END:VTIMEZONE
BEGIN:VEVENT
DTSTART;TZID=Europe/London:20250517T053000
DTEND;TZID=Europe/London:20250528T200000
DTSTAMP:20260421T042514
CREATED:20250506T142936Z
LAST-MODIFIED:20250507T094741Z
UID:10000176-1747459800-1748462400@www.arocha.nl
SUMMARY:Vroege Vogelwandeling met A Rocha Dronten
DESCRIPTION:In de vroegte van de morgen\, bij zonsopkomst (5\,37 uur!)\, gaan we luisteren naar de vroege vogels. De koekoek\, de tuinfluiter\, de karekiet\, de merel\, de zwartkop. En misschien we een nachtegaal of wielewaal. Natuurlijk doen we dat in het Wisentbos. Wie weet kunnen we nog iets toevoegen aan onze BioBlitz.\nNatuurlijk is er ook aandacht voor het andere moois wat het Wisentbos ons biedt!
URL:https://www.arocha.nl/event/vroege-vogelwandeling-met-a-rocha-dronten/
LOCATION:Parkeerplaats Wisentbos\, Wisentweg\, Dronten
CATEGORIES:A Rocha Dronten,wandeling
ORGANIZER;CN="A Rocha Dronten":MAILTO:dronten@arocha.org
END:VEVENT
BEGIN:VEVENT
DTSTART;TZID=Europe/London:20250523T210000
DTEND;TZID=Europe/London:20250523T223000
DTSTAMP:20260421T042514
CREATED:20250506T143529Z
LAST-MODIFIED:20250507T094803Z
UID:10000177-1748034000-1748039400@www.arocha.nl
SUMMARY:Nachtvlinderen met A Rocha Dronten
DESCRIPTION:Als de avond valt\, worden de nachtvlinders wakker!\nMet licht-op-laken\, led-emmers en stroop gaan we op zoek naar Nachtvlinders. We beginnen ongeveer een uur voor zonsondergang en gaan door tot een uur na zonsondergang. Dus vanaf 20.45 uur bent u welkom. Kom gerust even buurten!
URL:https://www.arocha.nl/event/nachtvlinderen/
LOCATION:Wisentweg\, tegenover Dorpsboerderij Dronten\, Wisentweg 5A\, 8251 PB Dronten\, Dronten
CATEGORIES:A Rocha Dronten,BioBlitz
ATTACH;FMTTYPE=image/jpeg:https://www.arocha.nl/wp-content/uploads/sites/35/2025/05/230915-Rood-Weeskind-van-opzij-rotated.jpg
ORGANIZER;CN="A Rocha Dronten":MAILTO:dronten@arocha.org
END:VEVENT
END:VCALENDAR