BEGIN:VCALENDAR
VERSION:2.0
PRODID:-//A Rocha Nederland - ECPv6.15.20//NONSGML v1.0//EN
CALSCALE:GREGORIAN
METHOD:PUBLISH
X-WR-CALNAME:A Rocha Nederland
X-ORIGINAL-URL:https://www.arocha.nl
X-WR-CALDESC:Evenementen voor A Rocha Nederland
REFRESH-INTERVAL;VALUE=DURATION:PT1H
X-Robots-Tag:noindex
X-PUBLISHED-TTL:PT1H
BEGIN:VTIMEZONE
TZID:Europe/London
BEGIN:DAYLIGHT
TZOFFSETFROM:+0000
TZOFFSETTO:+0100
TZNAME:BST
DTSTART:20240331T010000
END:DAYLIGHT
BEGIN:STANDARD
TZOFFSETFROM:+0100
TZOFFSETTO:+0000
TZNAME:GMT
DTSTART:20241027T010000
END:STANDARD
BEGIN:DAYLIGHT
TZOFFSETFROM:+0000
TZOFFSETTO:+0100
TZNAME:BST
DTSTART:20250330T010000
END:DAYLIGHT
BEGIN:STANDARD
TZOFFSETFROM:+0100
TZOFFSETTO:+0000
TZNAME:GMT
DTSTART:20251026T010000
END:STANDARD
BEGIN:DAYLIGHT
TZOFFSETFROM:+0000
TZOFFSETTO:+0100
TZNAME:BST
DTSTART:20260329T010000
END:DAYLIGHT
BEGIN:STANDARD
TZOFFSETFROM:+0100
TZOFFSETTO:+0000
TZNAME:GMT
DTSTART:20261025T010000
END:STANDARD
BEGIN:DAYLIGHT
TZOFFSETFROM:+0000
TZOFFSETTO:+0100
TZNAME:BST
DTSTART:20270328T010000
END:DAYLIGHT
BEGIN:STANDARD
TZOFFSETFROM:+0100
TZOFFSETTO:+0000
TZNAME:GMT
DTSTART:20271031T010000
END:STANDARD
END:VTIMEZONE
BEGIN:VEVENT
DTSTART;TZID=Europe/London:20260411T100000
DTEND;TZID=Europe/London:20260411T160000
DTSTAMP:20260421T141859
CREATED:20260225T135948Z
LAST-MODIFIED:20260319T161626Z
UID:10000318-1775901600-1775923200@www.arocha.nl
SUMMARY:Geannuleerd - Lancering A Rocha Partnerprogramma VoedselBos De Pelgrim - Bellingwolde
DESCRIPTION:Dit event is geannuleerd en zal op een later moment plaatsvinden. \nVoedselBos De Pelgrim in Bellingwolde is de eerste officiële partner van het A Rocha Partnerprogramma ‘Samen voor natuur’. Dit programma verbindt christelijke organisaties en landeigenaren die zich inzetten voor natuurbescherming en het herstel van biodiversiteit. Met deze samenwerking wordt het startsein gegeven voor een groeiend netwerk dat actief bijdraagt aan zorg voor de schepping. \nEigenaren Anita en Dorine realiseren met VoedselBos De Pelgrim een vruchtbaar\, levendig bos waar mens en dier genieten van alles wat er te zien\, te beleven en te proeven is. Het bos is een plek van rust\, ontdekking en leren over biologisch voedsel\, voor kinderen en volwassenen. De biodiversiteit is hier enorm toegenomen\, met soorten die eerder verdwenen leken uit de omgeving. Een bos vol smaken\, geuren en kleuren\, en een inspirerend voorbeeld voor anderen. \n 
URL:https://www.arocha.nl/event/lancering-a-rocha-partnerprogramma-voedselbos-de-pelgrim-bellingwolde/
LOCATION:Voedselbos De Pelgrim\, 1e Bovenstreeklaan 1\, Bellingwolde\, 9695 BN
CATEGORIES:A Rocha Assen,A Rocha Het Hogeland,A Rocha Midden-Groningen,A Rocha Partner
ATTACH;FMTTYPE=image/png:https://www.arocha.nl/wp-content/uploads/sites/35/2026/02/lancering-A-Rocha-Partnerprogramma-1.png
ORGANIZER;CN="A Rocha Nederland":MAILTO:nederland@arocha.org
END:VEVENT
BEGIN:VEVENT
DTSTART;TZID=Europe/London:20251101T090000
DTEND;TZID=Europe/London:20251101T130000
DTSTAMP:20260421T141859
CREATED:20251015T063327Z
LAST-MODIFIED:20251015T081805Z
UID:10000257-1761987600-1762002000@www.arocha.nl
SUMMARY:Onderhoud poelen voor amfibieën en reptielen
DESCRIPTION:Met onze A Rocha groep en iedereen die mee wil helpen gaan we daarom een aantal poelen in het beekdal van de Slokkert (Westervelde) opschonen. In het gebied liggen diverse poelen die dichtgegroeid zijn. Deze opslag gaan we verwijderen en verwerken in faunahopen. \nDoe je ook mee? \nDoor het weer vrij maken van de poelen ontstaat er licht en ruimte voor planten\, amfibieën en reptielen. \nNa de werkzaamheden sluiten we de ochtend af met een gezamenlijke lunch en nemen we jullie mee in de plannen voor herstel van dit prachtige natuurgebied. \nHet zaagwerk zal met name door volwassenen moeten gebeuren. Maar het snoeiafval zal ook versleept en een nieuw plekje in het gebied moeten krijgen. Hier kunnen kinderen goed bij helpen! \nGeef je hier op
URL:https://www.arocha.nl/event/onderhoud-poelen-voor-amfibieen-en-reptielen/
LOCATION:Beekdal Slokkert\, Westervelde\, Dominee Germsweg\, Westervelde
CATEGORIES:A Rocha Assen,natuurwerkdag
ATTACH;FMTTYPE=image/jpeg:https://www.arocha.nl/wp-content/uploads/sites/35/2025/10/Afbeelding-van-WhatsApp-op-2025-10-14-om-21.32.56_643ab0a9-1366x768-1.jpg
ORGANIZER;CN="A Rocha Assen":MAILTO:assen@arocha.org
END:VEVENT
BEGIN:VEVENT
DTSTART;VALUE=DATE:20250529
DTEND;VALUE=DATE:20250602
DTSTAMP:20260421T141859
CREATED:20250423T095103Z
LAST-MODIFIED:20250423T121844Z
UID:10000174-1748476800-1748822399@www.arocha.nl
SUMMARY:A Rocha op Strandheemfestival
DESCRIPTION:A Rocha is dit jaar op het Strandheemfestival te vinden. Dit kleinschalige festival in het noorden vindt plaats tijdens het Hemelvaartsweekend\, van 29 mei tot 1 juni. We staan met Climate Stewards\, Groene Kerken en Vegan Church in een pagode. Er is op het festival én bij ons genoeg te beleven. \nFoto: Strandheem
URL:https://www.arocha.nl/event/a-rocha-op-strandheemfestival/
LOCATION:Strandheem festival\, Leidijk’s Reed\, Opende (Gr.)
CATEGORIES:A Rocha Assen,A Rocha Het Hogeland,A Rocha Hoogezand-Sappemeer,A Rocha Nederland
ATTACH;FMTTYPE=image/jpeg:https://www.arocha.nl/wp-content/uploads/sites/35/2025/04/Zondagmiddag_Terrein_Strandheem-Festival_2019-32.jpeg
END:VEVENT
END:VCALENDAR