BEGIN:VCALENDAR
VERSION:2.0
PRODID:-//A Rocha Nederland - ECPv6.15.20//NONSGML v1.0//EN
CALSCALE:GREGORIAN
METHOD:PUBLISH
X-WR-CALNAME:A Rocha Nederland
X-ORIGINAL-URL:https://www.arocha.nl
X-WR-CALDESC:Evenementen voor A Rocha Nederland
REFRESH-INTERVAL;VALUE=DURATION:PT1H
X-Robots-Tag:noindex
X-PUBLISHED-TTL:PT1H
BEGIN:VTIMEZONE
TZID:Europe/London
BEGIN:DAYLIGHT
TZOFFSETFROM:+0000
TZOFFSETTO:+0100
TZNAME:BST
DTSTART:20240331T010000
END:DAYLIGHT
BEGIN:STANDARD
TZOFFSETFROM:+0100
TZOFFSETTO:+0000
TZNAME:GMT
DTSTART:20241027T010000
END:STANDARD
BEGIN:DAYLIGHT
TZOFFSETFROM:+0000
TZOFFSETTO:+0100
TZNAME:BST
DTSTART:20250330T010000
END:DAYLIGHT
BEGIN:STANDARD
TZOFFSETFROM:+0100
TZOFFSETTO:+0000
TZNAME:GMT
DTSTART:20251026T010000
END:STANDARD
BEGIN:DAYLIGHT
TZOFFSETFROM:+0000
TZOFFSETTO:+0100
TZNAME:BST
DTSTART:20260329T010000
END:DAYLIGHT
BEGIN:STANDARD
TZOFFSETFROM:+0100
TZOFFSETTO:+0000
TZNAME:GMT
DTSTART:20261025T010000
END:STANDARD
END:VTIMEZONE
BEGIN:VEVENT
DTSTART;TZID=Europe/London:20251101T090000
DTEND;TZID=Europe/London:20251101T130000
DTSTAMP:20260423T211739
CREATED:20251015T063327Z
LAST-MODIFIED:20251015T081805Z
UID:10000257-1761987600-1762002000@www.arocha.nl
SUMMARY:Onderhoud poelen voor amfibieën en reptielen
DESCRIPTION:Met onze A Rocha groep en iedereen die mee wil helpen gaan we daarom een aantal poelen in het beekdal van de Slokkert (Westervelde) opschonen. In het gebied liggen diverse poelen die dichtgegroeid zijn. Deze opslag gaan we verwijderen en verwerken in faunahopen. \nDoe je ook mee? \nDoor het weer vrij maken van de poelen ontstaat er licht en ruimte voor planten\, amfibieën en reptielen. \nNa de werkzaamheden sluiten we de ochtend af met een gezamenlijke lunch en nemen we jullie mee in de plannen voor herstel van dit prachtige natuurgebied. \nHet zaagwerk zal met name door volwassenen moeten gebeuren. Maar het snoeiafval zal ook versleept en een nieuw plekje in het gebied moeten krijgen. Hier kunnen kinderen goed bij helpen! \nGeef je hier op
URL:https://www.arocha.nl/event/onderhoud-poelen-voor-amfibieen-en-reptielen/
LOCATION:Beekdal Slokkert\, Westervelde\, Dominee Germsweg\, Westervelde
CATEGORIES:A Rocha Assen,natuurwerkdag
ATTACH;FMTTYPE=image/jpeg:https://www.arocha.nl/wp-content/uploads/sites/35/2025/10/Afbeelding-van-WhatsApp-op-2025-10-14-om-21.32.56_643ab0a9-1366x768-1.jpg
ORGANIZER;CN="A Rocha Assen":MAILTO:assen@arocha.org
END:VEVENT
END:VCALENDAR