BEGIN:VCALENDAR
VERSION:2.0
PRODID:-//A Rocha Nederland - ECPv6.15.20//NONSGML v1.0//EN
CALSCALE:GREGORIAN
METHOD:PUBLISH
X-WR-CALNAME:A Rocha Nederland
X-ORIGINAL-URL:https://www.arocha.nl
X-WR-CALDESC:Evenementen voor A Rocha Nederland
REFRESH-INTERVAL;VALUE=DURATION:PT1H
X-Robots-Tag:noindex
X-PUBLISHED-TTL:PT1H
BEGIN:VTIMEZONE
TZID:Europe/London
BEGIN:DAYLIGHT
TZOFFSETFROM:+0000
TZOFFSETTO:+0100
TZNAME:BST
DTSTART:20250330T010000
END:DAYLIGHT
BEGIN:STANDARD
TZOFFSETFROM:+0100
TZOFFSETTO:+0000
TZNAME:GMT
DTSTART:20251026T010000
END:STANDARD
BEGIN:DAYLIGHT
TZOFFSETFROM:+0000
TZOFFSETTO:+0100
TZNAME:BST
DTSTART:20260329T010000
END:DAYLIGHT
BEGIN:STANDARD
TZOFFSETFROM:+0100
TZOFFSETTO:+0000
TZNAME:GMT
DTSTART:20261025T010000
END:STANDARD
BEGIN:DAYLIGHT
TZOFFSETFROM:+0000
TZOFFSETTO:+0100
TZNAME:BST
DTSTART:20270328T010000
END:DAYLIGHT
BEGIN:STANDARD
TZOFFSETFROM:+0100
TZOFFSETTO:+0000
TZNAME:GMT
DTSTART:20271031T010000
END:STANDARD
END:VTIMEZONE
BEGIN:VEVENT
DTSTART;TZID=Europe/London:20260624T190000
DTEND;TZID=Europe/London:20260624T210000
DTSTAMP:20260423T201428
CREATED:20260213T105316Z
LAST-MODIFIED:20260216T083127Z
UID:12275-1782327600-1782334800@www.arocha.nl
SUMMARY:Zomeravond tuinieren dorpsakker de Parel
DESCRIPTION:In juni draait de moestuin op volle toeren. Alles schiet de grond uit. Naast onze wekelijkse werkochtenden organiseren we een zomeravond tuinieren.\nExtra uren\, groene vingers en gezelligheid op de Parel. Kom ook!
URL:https://www.arocha.nl/event/zomeravond-tuinieren-dorpsakker-de-parel/
LOCATION:Amerongen\, Holleweg 35\, Amerongen\, 3958 EA
CATEGORIES:Dorpsakker De Parel,natuurwerkdag
ATTACH;FMTTYPE=image/jpeg:https://www.arocha.nl/wp-content/uploads/sites/35/2026/02/Dorpsakker-de-Parel-Oct2018-006-scaled.jpg
ORGANIZER;CN="Dorpsakker De Parel":MAILTO:esther.gijsbertsen@arocha.org
END:VEVENT
END:VCALENDAR