BEGIN:VCALENDAR
VERSION:2.0
PRODID:-//A Rocha Nederland - ECPv6.15.20//NONSGML v1.0//EN
CALSCALE:GREGORIAN
METHOD:PUBLISH
X-WR-CALNAME:A Rocha Nederland
X-ORIGINAL-URL:https://www.arocha.nl
X-WR-CALDESC:Evenementen voor A Rocha Nederland
REFRESH-INTERVAL;VALUE=DURATION:PT1H
X-Robots-Tag:noindex
X-PUBLISHED-TTL:PT1H
BEGIN:VTIMEZONE
TZID:Europe/London
BEGIN:DAYLIGHT
TZOFFSETFROM:+0000
TZOFFSETTO:+0100
TZNAME:BST
DTSTART:20240331T010000
END:DAYLIGHT
BEGIN:STANDARD
TZOFFSETFROM:+0100
TZOFFSETTO:+0000
TZNAME:GMT
DTSTART:20241027T010000
END:STANDARD
BEGIN:DAYLIGHT
TZOFFSETFROM:+0000
TZOFFSETTO:+0100
TZNAME:BST
DTSTART:20250330T010000
END:DAYLIGHT
BEGIN:STANDARD
TZOFFSETFROM:+0100
TZOFFSETTO:+0000
TZNAME:GMT
DTSTART:20251026T010000
END:STANDARD
BEGIN:DAYLIGHT
TZOFFSETFROM:+0000
TZOFFSETTO:+0100
TZNAME:BST
DTSTART:20260329T010000
END:DAYLIGHT
BEGIN:STANDARD
TZOFFSETFROM:+0100
TZOFFSETTO:+0000
TZNAME:GMT
DTSTART:20261025T010000
END:STANDARD
END:VTIMEZONE
BEGIN:VEVENT
DTSTART;TZID=Europe/London:20250920T090000
DTEND;TZID=Europe/London:20250920T120000
DTSTAMP:20260423T211330
CREATED:20250901T090724Z
LAST-MODIFIED:20250916T140747Z
UID:10437-1758358800-1758369600@www.arocha.nl
SUMMARY:World Cleanup Day | A Rocha Biesbosch
DESCRIPTION:Komende zaterdag 20 september is het World Cleanup Day. Daar doen wij als A Rocha Biesbosch ook aan mee.  \nIn overleg met Staatsbosbeheer gaan wij vuilruimen bij het Zuidplaatje en de Tongplaat\, vooral langs de rivier. We starten om 9:00 uur bij de Zuidhaven en gaan door tot 12:00 uur. Wij zorgen voor hulpmiddelen (afvalknijpers\, handschoenen en vuilniszakken). Het afval doen we aan het einde in een big bag die Staatsbosbeheer later weer op zal halen. \nWie doet mee? Deel deze actie met mensen uit jouw omgeving en geef je op via de mail: biesbosch@arocha.org
URL:https://www.arocha.nl/event/world-cleanup-day-3/
LOCATION:Nieuwe Dordtse Biesbosch\, Van Elzelingenweg 2\, Dordrecht\, 3329KS\, Netherlands
CATEGORIES:A Rocha Biesbosch,clean up
ATTACH;FMTTYPE=image/jpeg:https://www.arocha.nl/wp-content/uploads/sites/35/2025/09/IMG-20250916-WA0000.jpg
ORGANIZER;CN="A Rocha Biesbosch":MAILTO:biesbosch@arocha.org
END:VEVENT
END:VCALENDAR