BEGIN:VCALENDAR
VERSION:2.0
PRODID:-//A Rocha Nederland - ECPv6.15.20//NONSGML v1.0//EN
CALSCALE:GREGORIAN
METHOD:PUBLISH
X-WR-CALNAME:A Rocha Nederland
X-ORIGINAL-URL:https://www.arocha.nl
X-WR-CALDESC:Evenementen voor A Rocha Nederland
REFRESH-INTERVAL;VALUE=DURATION:PT1H
X-Robots-Tag:noindex
X-PUBLISHED-TTL:PT1H
BEGIN:VTIMEZONE
TZID:Europe/London
BEGIN:DAYLIGHT
TZOFFSETFROM:+0000
TZOFFSETTO:+0100
TZNAME:BST
DTSTART:20250330T010000
END:DAYLIGHT
BEGIN:STANDARD
TZOFFSETFROM:+0100
TZOFFSETTO:+0000
TZNAME:GMT
DTSTART:20251026T010000
END:STANDARD
BEGIN:DAYLIGHT
TZOFFSETFROM:+0000
TZOFFSETTO:+0100
TZNAME:BST
DTSTART:20260329T010000
END:DAYLIGHT
BEGIN:STANDARD
TZOFFSETFROM:+0100
TZOFFSETTO:+0000
TZNAME:GMT
DTSTART:20261025T010000
END:STANDARD
BEGIN:DAYLIGHT
TZOFFSETFROM:+0000
TZOFFSETTO:+0100
TZNAME:BST
DTSTART:20270328T010000
END:DAYLIGHT
BEGIN:STANDARD
TZOFFSETFROM:+0100
TZOFFSETTO:+0000
TZNAME:GMT
DTSTART:20271031T010000
END:STANDARD
END:VTIMEZONE
BEGIN:VEVENT
DTSTART;TZID=Europe/London:20260708T190000
DTEND;TZID=Europe/London:20260708T203000
DTSTAMP:20260423T201514
CREATED:20260213T131122Z
LAST-MODIFIED:20260216T082912Z
UID:12284-1783537200-1783542600@www.arocha.nl
SUMMARY:Workshop Calendulazalf maken
DESCRIPTION:Tijdens deze avond neemt Esther Gijsbertsen van dorpsakker de Parel je mee in alle stappen van bloem tot zalf.\nAan het einde van de workshop ga je naar huis met een potje eigen gemaakte goudsbloemenzalf en heb je de kennis om dit thuis te herhalen. \nDe goudsbloem (Calendula) heeft geneeskrachtige eigenschappen en werkt ontstekingsremmend. Tijdens de avond krijg je ook een rondleiding door de ecologische moestuin waar de prachtige oranje/gele goudsbloemen in bloei staan. \nKoffie/thee met wat lekkers zijn bij de avond inbegrepen.
URL:https://www.arocha.nl/event/workshop-calendulazalf-maken-2/
LOCATION:Amerongen\, Holleweg 35\, Amerongen\, 3958 EA
CATEGORIES:Dorpsakker De Parel,workshop
ATTACH;FMTTYPE=image/jpeg:https://www.arocha.nl/wp-content/uploads/sites/35/2026/02/1000069746.jpg
ORGANIZER;CN="Dorpsakker De Parel":MAILTO:esther.gijsbertsen@arocha.org
END:VEVENT
END:VCALENDAR