BEGIN:VCALENDAR
VERSION:2.0
PRODID:-//A Rocha Nederland - ECPv6.15.20//NONSGML v1.0//EN
CALSCALE:GREGORIAN
METHOD:PUBLISH
X-WR-CALNAME:A Rocha Nederland
X-ORIGINAL-URL:https://www.arocha.nl
X-WR-CALDESC:Evenementen voor A Rocha Nederland
REFRESH-INTERVAL;VALUE=DURATION:PT1H
X-Robots-Tag:noindex
X-PUBLISHED-TTL:PT1H
BEGIN:VTIMEZONE
TZID:Europe/London
BEGIN:DAYLIGHT
TZOFFSETFROM:+0000
TZOFFSETTO:+0100
TZNAME:BST
DTSTART:20240331T010000
END:DAYLIGHT
BEGIN:STANDARD
TZOFFSETFROM:+0100
TZOFFSETTO:+0000
TZNAME:GMT
DTSTART:20241027T010000
END:STANDARD
BEGIN:DAYLIGHT
TZOFFSETFROM:+0000
TZOFFSETTO:+0100
TZNAME:BST
DTSTART:20250330T010000
END:DAYLIGHT
BEGIN:STANDARD
TZOFFSETFROM:+0100
TZOFFSETTO:+0000
TZNAME:GMT
DTSTART:20251026T010000
END:STANDARD
BEGIN:DAYLIGHT
TZOFFSETFROM:+0000
TZOFFSETTO:+0100
TZNAME:BST
DTSTART:20260329T010000
END:DAYLIGHT
BEGIN:STANDARD
TZOFFSETFROM:+0100
TZOFFSETTO:+0000
TZNAME:GMT
DTSTART:20261025T010000
END:STANDARD
END:VTIMEZONE
BEGIN:VEVENT
DTSTART;TZID=Europe/London:20251112T200000
DTEND;TZID=Europe/London:20251112T220000
DTSTAMP:20260423T195125
CREATED:20251106T104146Z
LAST-MODIFIED:20251106T104939Z
UID:11444-1762977600-1762984800@www.arocha.nl
SUMMARY:Filmavond: Onder het maaiveld
DESCRIPTION:A Rocha Bennekom organiseert samen met Stichting De Moft en Duurzaam Bennekom een gratis filmavond. We vertonen de indrukwekkende documentaire ‘Onder het Maaiveld’. \nLaat je verrassen door de verborgen wereld onder onze voeten: een fascinerend ecosysteem vol leven\, samenwerking en mysterie. Dit ecosysteem draagt bijna alles wat wij boven de grond zien. Ben je ook nieuwsgierig naar wat er zich in de bodem allemaal afspeelt? Kom kijken\, verwonder je en praat na over dit spektakel onder onze voeten.
URL:https://www.arocha.nl/event/onder-het-maaiveld/
LOCATION:Kerkhoflaan 34\, Bennekom\, Kerkhoflaan 34\, Bennekom
CATEGORIES:A Rocha Bennekom
ATTACH;FMTTYPE=image/jpeg:https://www.arocha.nl/wp-content/uploads/sites/35/2025/11/151340_film_image-o_20230227143329.jpg
ORGANIZER;CN="A Rocha Bennekom":MAILTO:bennekom@arocha.org
END:VEVENT
END:VCALENDAR