BEGIN:VCALENDAR
VERSION:2.0
PRODID:-//A Rocha Nederland - ECPv6.15.20//NONSGML v1.0//EN
CALSCALE:GREGORIAN
METHOD:PUBLISH
X-WR-CALNAME:A Rocha Nederland
X-ORIGINAL-URL:https://www.arocha.nl
X-WR-CALDESC:Evenementen voor A Rocha Nederland
REFRESH-INTERVAL;VALUE=DURATION:PT1H
X-Robots-Tag:noindex
X-PUBLISHED-TTL:PT1H
BEGIN:VTIMEZONE
TZID:Europe/London
BEGIN:DAYLIGHT
TZOFFSETFROM:+0000
TZOFFSETTO:+0100
TZNAME:BST
DTSTART:20240331T010000
END:DAYLIGHT
BEGIN:STANDARD
TZOFFSETFROM:+0100
TZOFFSETTO:+0000
TZNAME:GMT
DTSTART:20241027T010000
END:STANDARD
BEGIN:DAYLIGHT
TZOFFSETFROM:+0000
TZOFFSETTO:+0100
TZNAME:BST
DTSTART:20250330T010000
END:DAYLIGHT
BEGIN:STANDARD
TZOFFSETFROM:+0100
TZOFFSETTO:+0000
TZNAME:GMT
DTSTART:20251026T010000
END:STANDARD
BEGIN:DAYLIGHT
TZOFFSETFROM:+0000
TZOFFSETTO:+0100
TZNAME:BST
DTSTART:20260329T010000
END:DAYLIGHT
BEGIN:STANDARD
TZOFFSETFROM:+0100
TZOFFSETTO:+0000
TZNAME:GMT
DTSTART:20261025T010000
END:STANDARD
END:VTIMEZONE
BEGIN:VEVENT
DTSTART;TZID=Europe/London:20251213T130000
DTEND;TZID=Europe/London:20251213T153000
DTSTAMP:20260423T183043
CREATED:20251208T142448Z
LAST-MODIFIED:20251208T142615Z
UID:11783-1765630800-1765639800@www.arocha.nl
SUMMARY:Natuurwerkdag Mierenreservaat
DESCRIPTION:Samen aan de slag op het Bennekomse Mierenreservaat! \nZaterdag 13 december is onze maandelijkse werkmiddag op het Mierenreservaat. Iedere tweede zaterdag van de maand zijn we buiten aan het werk. \nOp deze zaterdag zijn er ook twee groepen van World Servants aan het werk. Wij starten – zoals altijd – om 13.00 uur en ronden af om 15.30 uur. Dan is de pap ook echt wel op\, want het is pittig werk. \nJe vind ons via het fietspad van de Oostbreukelderweg. Bij het spandoek (zie afbeelding) het bos in te rijden. Wil je je even opgeven via bennekom@arocha.org? \nHoe meer zielen\, hoe meer vreugd! Dus kom je ook?
URL:https://www.arocha.nl/event/natuurwerkdag-mierenreservaat/
LOCATION:Mierenreservaat\, Oost-Breukelderweg\, Bennekom
CATEGORIES:A Rocha Bennekom
ATTACH;FMTTYPE=image/jpeg:https://www.arocha.nl/wp-content/uploads/sites/35/2025/12/Mierenreservaat-afb.jpg
ORGANIZER;CN="A Rocha Bennekom":MAILTO:bennekom@arocha.org
END:VEVENT
END:VCALENDAR