BEGIN:VCALENDAR
VERSION:2.0
PRODID:-//A Rocha Nederland - ECPv6.15.20//NONSGML v1.0//EN
CALSCALE:GREGORIAN
METHOD:PUBLISH
X-WR-CALNAME:A Rocha Nederland
X-ORIGINAL-URL:https://www.arocha.nl
X-WR-CALDESC:Evenementen voor A Rocha Nederland
REFRESH-INTERVAL;VALUE=DURATION:PT1H
X-Robots-Tag:noindex
X-PUBLISHED-TTL:PT1H
BEGIN:VTIMEZONE
TZID:Europe/London
BEGIN:DAYLIGHT
TZOFFSETFROM:+0000
TZOFFSETTO:+0100
TZNAME:BST
DTSTART:20240331T010000
END:DAYLIGHT
BEGIN:STANDARD
TZOFFSETFROM:+0100
TZOFFSETTO:+0000
TZNAME:GMT
DTSTART:20241027T010000
END:STANDARD
BEGIN:DAYLIGHT
TZOFFSETFROM:+0000
TZOFFSETTO:+0100
TZNAME:BST
DTSTART:20250330T010000
END:DAYLIGHT
BEGIN:STANDARD
TZOFFSETFROM:+0100
TZOFFSETTO:+0000
TZNAME:GMT
DTSTART:20251026T010000
END:STANDARD
BEGIN:DAYLIGHT
TZOFFSETFROM:+0000
TZOFFSETTO:+0100
TZNAME:BST
DTSTART:20260329T010000
END:DAYLIGHT
BEGIN:STANDARD
TZOFFSETFROM:+0100
TZOFFSETTO:+0000
TZNAME:GMT
DTSTART:20261025T010000
END:STANDARD
END:VTIMEZONE
BEGIN:VEVENT
DTSTART;TZID=Europe/London:20250706T143000
DTEND;TZID=Europe/London:20250706T163000
DTSTAMP:20260421T093525
CREATED:20250212T143412Z
LAST-MODIFIED:20250701T112412Z
UID:8687-1751812200-1751819400@www.arocha.nl
SUMMARY:Hagenpreek
DESCRIPTION:Op zondagmiddag 6 juli organiseert A Rocha Groene Hart een hagenpreek onder een open hemel in het natuurgebied de Middelblokboezem. De viering staat in het teken van de schepping. Dit jaar leidt Ageeth Palland de hagenpreek. Zij is deel van de werkgroep en was voorheen werkzaam als missionair werker in Rotterdam. \nOok kinderen zijn van harte welkom! Tijdens de hagenpreek is er een kindermoment. De collecte is voor het werk van A Rocha. Neem zelf een matje\, kussen of klein stoeltje mee als zitplek.  Na afloop is er tijd voor ontmoeting met elkaar. Neem koffie/thee/fris met iets lekkers mee om met elkaar te delen. \nMochten de weersvooruitzichten niet goed zijn\, gaan we op zoek naar een binnenlocatie.\nVoor deze activiteit vragen we je om je van tevoren aan te melden: groene.hart@arocha.org    \nKom zoveel mogelijk met de fiets. Wie met de auto komt kan deze parkeren op de Groene Wetering in Gouderak. In 15-20 minuten loop je naar de Middelblokboezem over de Snippejagerskade de polder in en sla je bij de kruising linksaf de Tiendweg op. De Middelblokboezem ligt aan je linkerkant.
URL:https://www.arocha.nl/event/hagenpreek/
LOCATION:Middelblokboezem\, Lange Tiendweg\, Gouderak
CATEGORIES:A Rocha Groene Hart,hagenpreek
ATTACH;FMTTYPE=image/jpeg:https://www.arocha.nl/wp-content/uploads/sites/35/2025/02/IMG-20220703-WA0033.jpg
ORGANIZER;CN="A Rocha Groene Hart":MAILTO:groene.hart@arocha.org
END:VEVENT
END:VCALENDAR