BEGIN:VCALENDAR
VERSION:2.0
PRODID:-//A Rocha Nederland - ECPv6.15.20//NONSGML v1.0//EN
CALSCALE:GREGORIAN
METHOD:PUBLISH
X-WR-CALNAME:A Rocha Nederland
X-ORIGINAL-URL:https://www.arocha.nl
X-WR-CALDESC:Evenementen voor A Rocha Nederland
REFRESH-INTERVAL;VALUE=DURATION:PT1H
X-Robots-Tag:noindex
X-PUBLISHED-TTL:PT1H
BEGIN:VTIMEZONE
TZID:Europe/London
BEGIN:DAYLIGHT
TZOFFSETFROM:+0000
TZOFFSETTO:+0100
TZNAME:BST
DTSTART:20250330T010000
END:DAYLIGHT
BEGIN:STANDARD
TZOFFSETFROM:+0100
TZOFFSETTO:+0000
TZNAME:GMT
DTSTART:20251026T010000
END:STANDARD
BEGIN:DAYLIGHT
TZOFFSETFROM:+0000
TZOFFSETTO:+0100
TZNAME:BST
DTSTART:20260329T010000
END:DAYLIGHT
BEGIN:STANDARD
TZOFFSETFROM:+0100
TZOFFSETTO:+0000
TZNAME:GMT
DTSTART:20261025T010000
END:STANDARD
BEGIN:DAYLIGHT
TZOFFSETFROM:+0000
TZOFFSETTO:+0100
TZNAME:BST
DTSTART:20270328T010000
END:DAYLIGHT
BEGIN:STANDARD
TZOFFSETFROM:+0100
TZOFFSETTO:+0000
TZNAME:GMT
DTSTART:20271031T010000
END:STANDARD
END:VTIMEZONE
BEGIN:VEVENT
DTSTART;VALUE=DATE:20260718
DTEND;VALUE=DATE:20260725
DTSTAMP:20260423T122416
CREATED:20260415T074015Z
LAST-MODIFIED:20260415T074015Z
UID:14460-1784332800-1784937599@www.arocha.nl
SUMMARY:A Rocha op New Wine
DESCRIPTION:Ook in 2026 zijn A Rocha en Climate Stewards op New Wine te vinden met een inspirerend programma vol verwondering over God en natuur\, voor jong en oud.
URL:https://www.arocha.nl/event/a-rocha-op-new-wine/
LOCATION:Landgoed Velder in Liempde\, Velderseweg 14a\, Liempde\, 5298 MB
CATEGORIES:A Rocha Nederland,wilderniskerk / forest church,workshop
ATTACH;FMTTYPE=image/png:https://www.arocha.nl/wp-content/uploads/sites/35/2026/04/Scherm­afbeelding-2026-04-15-om-09.36.45.png
ORGANIZER;CN="A Rocha Nederland":MAILTO:nederland@arocha.org
END:VEVENT
END:VCALENDAR