BEGIN:VCALENDAR
VERSION:2.0
PRODID:-//A Rocha Nederland - ECPv6.15.20//NONSGML v1.0//EN
CALSCALE:GREGORIAN
METHOD:PUBLISH
X-ORIGINAL-URL:https://www.arocha.nl
X-WR-CALDESC:Evenementen voor A Rocha Nederland
REFRESH-INTERVAL;VALUE=DURATION:PT1H
X-Robots-Tag:noindex
X-PUBLISHED-TTL:PT1H
BEGIN:VTIMEZONE
TZID:Europe/London
BEGIN:DAYLIGHT
TZOFFSETFROM:+0000
TZOFFSETTO:+0100
TZNAME:BST
DTSTART:20250330T010000
END:DAYLIGHT
BEGIN:STANDARD
TZOFFSETFROM:+0100
TZOFFSETTO:+0000
TZNAME:GMT
DTSTART:20251026T010000
END:STANDARD
BEGIN:DAYLIGHT
TZOFFSETFROM:+0000
TZOFFSETTO:+0100
TZNAME:BST
DTSTART:20260329T010000
END:DAYLIGHT
BEGIN:STANDARD
TZOFFSETFROM:+0100
TZOFFSETTO:+0000
TZNAME:GMT
DTSTART:20261025T010000
END:STANDARD
BEGIN:DAYLIGHT
TZOFFSETFROM:+0000
TZOFFSETTO:+0100
TZNAME:BST
DTSTART:20270328T010000
END:DAYLIGHT
BEGIN:STANDARD
TZOFFSETFROM:+0100
TZOFFSETTO:+0000
TZNAME:GMT
DTSTART:20271031T010000
END:STANDARD
END:VTIMEZONE
BEGIN:VEVENT
DTSTART;TZID=Europe/London:20260228T100000
DTEND;TZID=Europe/London:20260228T150000
DTSTAMP:20260423T194900
CREATED:20260212T073721Z
LAST-MODIFIED:20260214T125427Z
UID:10000297-1772272800-1772290800@www.arocha.nl
SUMMARY:Aanplant Struiken Deeneplaatweg
DESCRIPTION:Deze activiteit bevelen we van harte aan! We mogen meewerken bij het aanplanten van 1200 inheemse struiken langs de Deeneplaatweg in de Brabantse Biesbosch. Er is een anonieme geldschieter geweest die de kosten voor deze struiken op zich heeft genomen en daarbij heeft aangegeven dat A Rocha bij het planten betrokken zou moeten worden. Het zou tof zijn als er deze dag veel mensen mee kunnen helpen. \nMet het aanplanten van deze struiken brengen we meer diversiteit in het landschap aan. En juist op deze plek is dat enorm belangrijk. Sinds een aantal jaar broedt er op deze plek we een heel bijzondere vogel: de grauwe klauwier. Deze vogel gebruikt graag doornige struiken om zijn prooien te kunnen spiesen. Deze unieke manier van foerageren is erg bijzonder\, en deze vogel kan wel een steuntje in de rug gebruiken. Wij helpen graag mee! \nMee doen? Geef je op via de app als de poll langs komt\, of via biesbosch@arocha.org
URL:https://www.arocha.nl/event/aanplant-struiken-deeneplaatweg/
LOCATION:Parkeerplaats Deeneplaatweg\, Werkendam\, Deeneplaatweg\, Werkendam
CATEGORIES:A Rocha Biesbosch,natuurwerkdag,uitgelicht
ATTACH;FMTTYPE=image/png:https://www.arocha.nl/wp-content/uploads/sites/35/2026/02/Kopie-van-NL-World-Cleanup-Day-Instagram-Square5.png
ORGANIZER;CN="A Rocha Biesbosch":MAILTO:biesbosch@arocha.org
END:VEVENT
END:VCALENDAR