BEGIN:VCALENDAR
VERSION:2.0
PRODID:-//A Rocha Nederland - ECPv6.15.20//NONSGML v1.0//EN
CALSCALE:GREGORIAN
METHOD:PUBLISH
X-WR-CALNAME:A Rocha Nederland
X-ORIGINAL-URL:https://www.arocha.nl
X-WR-CALDESC:Evenementen voor A Rocha Nederland
REFRESH-INTERVAL;VALUE=DURATION:PT1H
X-Robots-Tag:noindex
X-PUBLISHED-TTL:PT1H
BEGIN:VTIMEZONE
TZID:Europe/London
BEGIN:DAYLIGHT
TZOFFSETFROM:+0000
TZOFFSETTO:+0100
TZNAME:BST
DTSTART:20250330T010000
END:DAYLIGHT
BEGIN:STANDARD
TZOFFSETFROM:+0100
TZOFFSETTO:+0000
TZNAME:GMT
DTSTART:20251026T010000
END:STANDARD
BEGIN:DAYLIGHT
TZOFFSETFROM:+0000
TZOFFSETTO:+0100
TZNAME:BST
DTSTART:20260329T010000
END:DAYLIGHT
BEGIN:STANDARD
TZOFFSETFROM:+0100
TZOFFSETTO:+0000
TZNAME:GMT
DTSTART:20261025T010000
END:STANDARD
BEGIN:DAYLIGHT
TZOFFSETFROM:+0000
TZOFFSETTO:+0100
TZNAME:BST
DTSTART:20270328T010000
END:DAYLIGHT
BEGIN:STANDARD
TZOFFSETFROM:+0100
TZOFFSETTO:+0000
TZNAME:GMT
DTSTART:20271031T010000
END:STANDARD
END:VTIMEZONE
BEGIN:VEVENT
DTSTART;TZID=Europe/London:20260418T063000
DTEND;TZID=Europe/London:20260418T203000
DTSTAMP:20260423T210621
CREATED:20260410T181804Z
LAST-MODIFIED:20260410T182800Z
UID:10000335-1776493800-1776544200@www.arocha.nl
SUMMARY:Vroege vogel wandeling
DESCRIPTION:Samen wandelen we door het gebied waar we als A Rocha actief bezig zijn geweest in de afgelopen 2 jaar. We lopen langs uitgestrekte rietvelden en struweel en door het waterrijke gebied in de Noorderdiepzone. We laten ons verrassen door welke vogels we tegenkomen. Maar grote kans dat we heel wat rietvogels zullen zien en horen. Henk-Jos van Leeuwen en Hans Bossenbroek zullen deze morgen de gidsen zijn. We zullen ook nog de tijd nemen voor een korte verstilling vanuit de woorden van Jezus ‘Kijk eens naar de Vogels’. Meld je even aan via de mail\, of als je vaker komt via de poll in de appgroep.
URL:https://www.arocha.nl/event/vroege-vogel-wandeling/
LOCATION:P3 Elzelingenweg2\, Dordecht\, Van Elzelingenweg 2\, Dordrecht
CATEGORIES:A Rocha Biesbosch,A Rocha Nederland,Excursie,uitgelicht,wandeling
ATTACH;FMTTYPE=image/png:https://www.arocha.nl/wp-content/uploads/sites/35/2026/04/Kopie-van-NL-World-Cleanup-Day-Instagram-Square.png
ORGANIZER;CN="A Rocha Biesbosch":MAILTO:biesbosch@arocha.org
END:VEVENT
BEGIN:VEVENT
DTSTART;TZID=Europe/London:20260216T090000
DTEND;TZID=Europe/London:20260216T120000
DTSTAMP:20260423T210621
CREATED:20260212T073346Z
LAST-MODIFIED:20260212T073346Z
UID:10000296-1771232400-1771243200@www.arocha.nl
SUMMARY:Winterse Natuurwerkdag
DESCRIPTION:Winterse Natuurwerkdagen\nAanstaande maandag 16 februari gaan we weer aan de slag met het verwijderen van wilgenopschot. Door jonge wilgen weg te zagen en te knippen krijgt het riet de kans om overjarig te worden. Zo ontstaat een leefgebied dat ideaal is voor verschillende broedvogels die juist deze biotoop nodig hebben. \nNog niet eerder meegedaan? Van deelnemers horen we vaak terug dat dit werk verrassend leuk is om te doen. Het is niet zwaar en je waant je echt even in een andere wereld. Het riet dempt geluid\, wind en temperatuur\, waardoor het zelfs op koudere dagen aangenaam werken is in de rietvelden. \nGeef je op via de app als de poll langs komt\, of via biesbosch@arocha.org
URL:https://www.arocha.nl/event/winterse-natuurwerkdag-4/
LOCATION:P3 Elzelingenweg2\, Dordecht\, Van Elzelingenweg 2\, Dordrecht
CATEGORIES:A Rocha Biesbosch,natuurwerkdag,uitgelicht
ATTACH;FMTTYPE=image/png:https://www.arocha.nl/wp-content/uploads/sites/35/2026/02/Kopie-van-Kopie-van-NL-World-Cleanup-Day-Instagram-Square1.png
ORGANIZER;CN="A Rocha Biesbosch":MAILTO:biesbosch@arocha.org
END:VEVENT
BEGIN:VEVENT
DTSTART;TZID=Europe/London:20260131T090000
DTEND;TZID=Europe/London:20260131T120000
DTSTAMP:20260423T210621
CREATED:20251224T090855Z
LAST-MODIFIED:20260107T110710Z
UID:10000276-1769850000-1769860800@www.arocha.nl
SUMMARY:Winterse Natuurwerkdag
DESCRIPTION:Winterse Natuurwerkdagen\nIn de komende weken gaan we weer aan de slag met het verwijderen van wilgenopschot. Door jonge wilgen weg te zagen en te knippen krijgt het riet de kans om overjarig te worden. Zo ontstaat een leefgebied dat ideaal is voor verschillende broedvogels die juist deze biotoop nodig hebben. \nVeel van jullie hebben hier al eerder aan meegewerkt. Juist deze tijd van het jaar is bijzonder geschikt om in de rietvelden aan de slag te gaan: de vogels die hier in het voorjaar broeden zijn nu grotendeels naar het warme zuiden vertrokken\, waardoor we nauwelijks verstoren. \nNog niet eerder meegedaan? Van deelnemers horen we vaak terug dat dit werk verrassend leuk is om te doen. Het is niet zwaar en je waant je echt even in een andere wereld. Het riet dempt geluid\, wind en temperatuur\, waardoor het zelfs op koudere dagen aangenaam werken is in de rietvelden. \nNog niet eerder mee geweest? Of weer een keer meehelpen? Geef je dan op via biesbosch@arocha.org
URL:https://www.arocha.nl/event/winterse-natuurwerkdag-3/
LOCATION:P3 Elzelingenweg2\, Dordecht\, Van Elzelingenweg 2\, Dordrecht
CATEGORIES:A Rocha Biesbosch,natuurwerkdag
ATTACH;FMTTYPE=image/jpeg:https://www.arocha.nl/wp-content/uploads/sites/35/2025/12/Natuurwerkdagen-januari-2026-2.jpg
ORGANIZER;CN="A Rocha Biesbosch":MAILTO:biesbosch@arocha.org
END:VEVENT
BEGIN:VEVENT
DTSTART;TZID=Europe/London:20260112T090000
DTEND;TZID=Europe/London:20260112T120000
DTSTAMP:20260423T210621
CREATED:20251224T090712Z
LAST-MODIFIED:20260107T110900Z
UID:10000275-1768208400-1768219200@www.arocha.nl
SUMMARY:Winterse Natuurwerkdag
DESCRIPTION:Winterse Natuurwerkdagen\nIn de komende weken gaan we weer aan de slag met het verwijderen van wilgenopschot. Door jonge wilgen weg te zagen en te knippen krijgt het riet de kans om overjarig te worden. Zo ontstaat een leefgebied dat ideaal is voor verschillende broedvogels die juist deze biotoop nodig hebben. \nVeel van jullie hebben hier al eerder aan meegewerkt. Juist deze tijd van het jaar is bijzonder geschikt om in de rietvelden aan de slag te gaan: de vogels die hier in het voorjaar broeden zijn nu grotendeels naar het warme zuiden vertrokken\, waardoor we nauwelijks verstoren. \nNog niet eerder meegedaan? Van deelnemers horen we vaak terug dat dit werk verrassend leuk is om te doen. Het is niet zwaar en je waant je echt even in een andere wereld. Het riet dempt geluid\, wind en temperatuur\, waardoor het zelfs op koudere dagen aangenaam werken is in de rietvelden. \nNog niet eerder mee geweest? Of weer een keer meehelpen? Geef je dan op via biesbosch@arocha.org
URL:https://www.arocha.nl/event/winterse-natuurwerkdag-2/
LOCATION:P3 Elzelingenweg2\, Dordecht\, Van Elzelingenweg 2\, Dordrecht
CATEGORIES:A Rocha Biesbosch,natuurwerkdag
ATTACH;FMTTYPE=image/jpeg:https://www.arocha.nl/wp-content/uploads/sites/35/2025/12/Natuurwerkdagen-januari-2026-1.jpg
ORGANIZER;CN="A Rocha Biesbosch":MAILTO:biesbosch@arocha.org
END:VEVENT
BEGIN:VEVENT
DTSTART;TZID=Europe/London:20260103T090000
DTEND;TZID=Europe/London:20260103T120000
DTSTAMP:20260423T210621
CREATED:20251223T171423Z
LAST-MODIFIED:20251224T090124Z
UID:10000274-1767430800-1767441600@www.arocha.nl
SUMMARY:Winterse Natuurwerkdag
DESCRIPTION:Winterse Natuurwerkdagen\nIn de komende weken gaan we weer aan de slag met het verwijderen van wilgenopschot. Door jonge wilgen weg te zagen en te knippen krijgt het riet de kans om overjarig te worden. Zo ontstaat een leefgebied dat ideaal is voor verschillende broedvogels die juist deze biotoop nodig hebben. \nVeel van jullie hebben hier al eerder aan meegewerkt. Juist deze tijd van het jaar is bijzonder geschikt om in de rietvelden aan de slag te gaan: de vogels die hier in het voorjaar broeden zijn nu grotendeels naar het warme zuiden vertrokken\, waardoor we nauwelijks verstoren. \nNog niet eerder meegedaan? Van deelnemers horen we vaak terug dat dit werk verrassend leuk is om te doen. Het is niet zwaar en je waant je echt even in een andere wereld. Het riet dempt geluid\, wind en temperatuur\, waardoor het zelfs op koudere dagen aangenaam werken is in de rietvelden. \nNog niet eerder mee geweest? Of weer een keer meehelpen? Geef je dan op via biesbosch@arocha.org
URL:https://www.arocha.nl/event/winterse-natuurwerkdag/
LOCATION:P3 Elzelingenweg2\, Dordecht\, Van Elzelingenweg 2\, Dordrecht
ATTACH;FMTTYPE=image/jpeg:https://www.arocha.nl/wp-content/uploads/sites/35/2025/12/Natuurwerkdagen-januari-2026.jpg
END:VEVENT
END:VCALENDAR