BEGIN:VCALENDAR
VERSION:2.0
PRODID:-//A Rocha Nederland - ECPv6.15.20//NONSGML v1.0//EN
CALSCALE:GREGORIAN
METHOD:PUBLISH
X-WR-CALNAME:A Rocha Nederland
X-ORIGINAL-URL:https://www.arocha.nl
X-WR-CALDESC:Evenementen voor A Rocha Nederland
REFRESH-INTERVAL;VALUE=DURATION:PT1H
X-Robots-Tag:noindex
X-PUBLISHED-TTL:PT1H
BEGIN:VTIMEZONE
TZID:Europe/London
BEGIN:DAYLIGHT
TZOFFSETFROM:+0000
TZOFFSETTO:+0100
TZNAME:BST
DTSTART:20240331T010000
END:DAYLIGHT
BEGIN:STANDARD
TZOFFSETFROM:+0100
TZOFFSETTO:+0000
TZNAME:GMT
DTSTART:20241027T010000
END:STANDARD
BEGIN:DAYLIGHT
TZOFFSETFROM:+0000
TZOFFSETTO:+0100
TZNAME:BST
DTSTART:20250330T010000
END:DAYLIGHT
BEGIN:STANDARD
TZOFFSETFROM:+0100
TZOFFSETTO:+0000
TZNAME:GMT
DTSTART:20251026T010000
END:STANDARD
BEGIN:DAYLIGHT
TZOFFSETFROM:+0000
TZOFFSETTO:+0100
TZNAME:BST
DTSTART:20260329T010000
END:DAYLIGHT
BEGIN:STANDARD
TZOFFSETFROM:+0100
TZOFFSETTO:+0000
TZNAME:GMT
DTSTART:20261025T010000
END:STANDARD
BEGIN:DAYLIGHT
TZOFFSETFROM:+0000
TZOFFSETTO:+0100
TZNAME:BST
DTSTART:20270328T010000
END:DAYLIGHT
BEGIN:STANDARD
TZOFFSETFROM:+0100
TZOFFSETTO:+0000
TZNAME:GMT
DTSTART:20271031T010000
END:STANDARD
END:VTIMEZONE
BEGIN:VEVENT
DTSTART;TZID=Europe/London:20260214T130000
DTEND;TZID=Europe/London:20260214T173000
DTSTAMP:20260423T165004
CREATED:20260212T095228Z
LAST-MODIFIED:20260212T095647Z
UID:10000300-1771074000-1771090200@www.arocha.nl
SUMMARY:Natuurwerkdag Mierenreservaat
DESCRIPTION:Heerlijk met z’n allen werken aan een biodivers gebied! \nZaterdag 14 februari is weer onze maandelijkse werkmiddag op het Mierenreservaat. Iedere tweede zaterdag van de maand zijn we buiten aan het werk. Het gaat natuurlijk om veel méér dan de mieren alleen. Het natuurgebied is enorm gevarieerd. Heb je al eens de oude eiken in het bos gezien? De oudste exemplaren dateren qua oorsprong van honderden jaren geleden. En juist deze oude bomen kunnen een belangrijke rol spelen bij klimaatveranderingen. \nHoe dan ook: er valt niet alleen genoeg te zoen\, maar ook veel te ontdekken. Wij starten – zoals altijd – om 13.00 uur en ronden af om 15.30 uur. Dan is de pap ook echt wel op\, want het is pittig werk. \nJe vindt ons via het fietspad van de Oostbreukelderweg. Bij het spandoek (zie foto) het bos inrijden. Opgeven kan via bennekom@arocha.org. \nHoe meer zielen\, hoe meer vreugd! Je bent van harte welkom\, ook als je gewoon eens wil komen kijken.
URL:https://www.arocha.nl/event/natuurwerkdag-mierenreservaat-2/
LOCATION:Mierenreservaat\, Oost-Breukelderweg\, Bennekom
CATEGORIES:A Rocha Bennekom
ATTACH;FMTTYPE=image/jpeg:https://www.arocha.nl/wp-content/uploads/sites/35/2026/02/unnamed-1.jpg
ORGANIZER;CN="A Rocha Bennekom":MAILTO:bennekom@arocha.org
END:VEVENT
BEGIN:VEVENT
DTSTART;TZID=Europe/London:20251213T130000
DTEND;TZID=Europe/London:20251213T153000
DTSTAMP:20260423T165004
CREATED:20251208T142448Z
LAST-MODIFIED:20251208T142615Z
UID:10000273-1765630800-1765639800@www.arocha.nl
SUMMARY:Natuurwerkdag Mierenreservaat
DESCRIPTION:Samen aan de slag op het Bennekomse Mierenreservaat! \nZaterdag 13 december is onze maandelijkse werkmiddag op het Mierenreservaat. Iedere tweede zaterdag van de maand zijn we buiten aan het werk. \nOp deze zaterdag zijn er ook twee groepen van World Servants aan het werk. Wij starten – zoals altijd – om 13.00 uur en ronden af om 15.30 uur. Dan is de pap ook echt wel op\, want het is pittig werk. \nJe vind ons via het fietspad van de Oostbreukelderweg. Bij het spandoek (zie afbeelding) het bos in te rijden. Wil je je even opgeven via bennekom@arocha.org? \nHoe meer zielen\, hoe meer vreugd! Dus kom je ook?
URL:https://www.arocha.nl/event/natuurwerkdag-mierenreservaat/
LOCATION:Mierenreservaat\, Oost-Breukelderweg\, Bennekom
CATEGORIES:A Rocha Bennekom
ATTACH;FMTTYPE=image/jpeg:https://www.arocha.nl/wp-content/uploads/sites/35/2025/12/Mierenreservaat-afb.jpg
ORGANIZER;CN="A Rocha Bennekom":MAILTO:bennekom@arocha.org
END:VEVENT
BEGIN:VEVENT
DTSTART;TZID=Europe/London:20251101T140000
DTEND;TZID=Europe/London:20251101T160000
DTSTAMP:20260423T165004
CREATED:20250923T141707Z
LAST-MODIFIED:20251021T105747Z
UID:10000227-1762005600-1762012800@www.arocha.nl
SUMMARY:Natuurwerkmiddag Mierenreservaat
DESCRIPTION:We doen als A Rocha groep mee met de Nationale Natuurwerkdag van zaterdag 1 november\, in samenwerking met Land van Peelem\, ChristenUnie en CDA.\nWe gaan aan de slag in het Mierenreservaat. Dit bijzondere gebied dreigt overwoekerd te raken en dat gaat ten koste van de biodiversiteit. Daar gaan wij wat aan doen! Doe je met ons mee?\nDe kinderen kunnen aan de slag met een vogelhuisje bouwen! \nLocatie: Mierenreservaat\nTijd: 14:00-16:00 uur \nWe verzamelen voor 14 uur aan de oostkant van het Mierenreservaat. De eenvoudigste route is via de Dikkenbergweg omhoog. Honderd meter voorbij nummer 56 het bospad naar links in slaan. Dan 3 a 400 meter fietsen tot aan een omgezaagde beuk waar we starten. \nMeld je even aan door te mailen naar bennekom@arocha.org
URL:https://www.arocha.nl/event/natuurwerkmiddag-mierenreservaat/
LOCATION:Mierenreservaat\, Oost-Breukelderweg\, Bennekom
CATEGORIES:A Rocha Bennekom,natuurwerkdag
ATTACH;FMTTYPE=image/png:https://www.arocha.nl/wp-content/uploads/sites/35/2025/09/bennekom.png
ORGANIZER;CN="A Rocha Bennekom":MAILTO:bennekom@arocha.org
END:VEVENT
BEGIN:VEVENT
DTSTART;TZID=Europe/London:20250913T130000
DTEND;TZID=Europe/London:20250913T160000
DTSTAMP:20260423T165004
CREATED:20250902T074023Z
LAST-MODIFIED:20250902T074152Z
UID:10000217-1757768400-1757779200@www.arocha.nl
SUMMARY:Werkmiddag Mierenreservaat
DESCRIPTION:We gaan weer ruimte maken op een mooi stukje heide voor de mieren. Door weer struiken uit te spitten en andere stevige acties.  \nOp de stukken die we vorig seizoen gedaan hebben zie je her en der de heide alweer tevoorschijn komen. Mooi om resultaat te zien van ons werk. Ook zien we nieuwe mierenhopen. \nWe verzamelen aan de oostkant van het Mierenreservaat. De eenvoudigste route is via de Dikkenbergweg omhoog. Honderd meter voorbij nummer 56 het bospad naar links in slaan. Dan 3 a 400 meter fietsen tot aan een omgezaagde beuk waar we starten. Meld je even aan bij bennekom@arocha.org.
URL:https://www.arocha.nl/event/werkmiddag-mierenreservaat/
LOCATION:Mierenreservaat\, Oost-Breukelderweg\, Bennekom
ATTACH;FMTTYPE=image/jpeg:https://www.arocha.nl/wp-content/uploads/sites/35/2025/09/mierenreservaat-2-scaled.jpg
ORGANIZER;CN="A Rocha Bennekom":MAILTO:bennekom@arocha.org
END:VEVENT
BEGIN:VEVENT
DTSTART;TZID=Europe/London:20250906T103000
DTEND;TZID=Europe/London:20250906T120000
DTSTAMP:20260423T165004
CREATED:20250902T073730Z
LAST-MODIFIED:20250903T085033Z
UID:10000216-1757154600-1757160000@www.arocha.nl
SUMMARY:Werkochtend Mierenreservaat
DESCRIPTION:We gaan weer ruimte maken op een mooi stukje heide voor de mieren. Onder andere door jonge zaailingen van boompjes en jonge braampjes te verwijderen. Graag zelf werkhandschoenen meenemen. Wij kunnen deze ochtend niet voor koffie e.d. zorgen dus neem dat ook zelf mee. \nWe verzamelen aan de oostkant van het Mierenreservaat. De eenvoudigste route is via de Dikkenbergweg omhoog. Honderd meter voorbij nummer 56 het bospad naar links in slaan. Dan 3 a 400 meter fietsen tot aan een omgezaagde beuk waar we starten. Meld je even aan bij bennekom@arocha.org.
URL:https://www.arocha.nl/event/werkochtend-mierenreservaat/
LOCATION:Mierenreservaat\, Oost-Breukelderweg\, Bennekom
CATEGORIES:A Rocha Bennekom,natuurwerkdag
ATTACH;FMTTYPE=image/jpeg:https://www.arocha.nl/wp-content/uploads/sites/35/2025/09/mierenreservaat-scaled.jpg
ORGANIZER;CN="A Rocha Bennekom":MAILTO:bennekom@arocha.org
END:VEVENT
BEGIN:VEVENT
DTSTART;TZID=Europe/London:20250614T140000
DTEND;TZID=Europe/London:20250614T160000
DTSTAMP:20260423T165004
CREATED:20250610T055757Z
LAST-MODIFIED:20250614T091024Z
UID:10000186-1749909600-1749916800@www.arocha.nl
SUMMARY:Excursie Mierenreservaat
DESCRIPTION:In het kader van het actie jaar Red het Mierenreservaat organiseren we een excursie om te laten zien wat er zoal leeft aan mieren en andere fauna. Onze gids is Jinze Noordijk\, deskundige op het gebied van de wisselwerking tussen vegetatiebeheer en insecten. Hij inventariseerde 29 mierensoorten op het Mierenreservaat. \nVertrekpunt is het “mijmerbankje” aan de westkant van de heide\, goed te bereiken per fiets via de Oost Breukelderweg. Tijdstip: 14.00 uur \nWe gaan ook zien hoeveel werk er al verzet is om dit mooie stukje landschap open te houden. Tevens wordt duidelijk dat er nog veel werk verzet moet worden. \nOpgeven is noodzakelijk omdat er slechts 15 personen kunnen deelnemen. We doen wie het eerst komt het eerst maalt. \nOm in de sfeer te komen wat leuke info over de bosslankmier. Deze mier vestigt zijn kolonie in kleine holtes\, dat kan zijn onder boomschors of in holle stengels. Op de foto heeft de mier een holle eikel uitgekozen om er te gaan leven. Eén kolonie kan verspreid zijn over meerdere holtes. \nKijk ook op onze actiepagina\, Red het Mierenreservaat: https://www.landvanpeelen.nl/redhetmierenreservaat/. Wil je meehelpen het Mierenreservaat open te houden? Dan kun je je daarvoor nog opgeven.
URL:https://www.arocha.nl/event/excursie-mierenreservaat/
LOCATION:Mierenreservaat\, Oost-Breukelderweg\, Bennekom
CATEGORIES:A Rocha Bennekom,Excursie
ORGANIZER;CN="A Rocha Bennekom":MAILTO:bennekom@arocha.org
END:VEVENT
END:VCALENDAR