BEGIN:VCALENDAR
VERSION:2.0
PRODID:-//A Rocha Nederland - ECPv6.15.20//NONSGML v1.0//EN
CALSCALE:GREGORIAN
METHOD:PUBLISH
X-WR-CALNAME:A Rocha Nederland
X-ORIGINAL-URL:https://www.arocha.nl
X-WR-CALDESC:Evenementen voor A Rocha Nederland
REFRESH-INTERVAL;VALUE=DURATION:PT1H
X-Robots-Tag:noindex
X-PUBLISHED-TTL:PT1H
BEGIN:VTIMEZONE
TZID:Europe/London
BEGIN:DAYLIGHT
TZOFFSETFROM:+0000
TZOFFSETTO:+0100
TZNAME:BST
DTSTART:20240331T010000
END:DAYLIGHT
BEGIN:STANDARD
TZOFFSETFROM:+0100
TZOFFSETTO:+0000
TZNAME:GMT
DTSTART:20241027T010000
END:STANDARD
BEGIN:DAYLIGHT
TZOFFSETFROM:+0000
TZOFFSETTO:+0100
TZNAME:BST
DTSTART:20250330T010000
END:DAYLIGHT
BEGIN:STANDARD
TZOFFSETFROM:+0100
TZOFFSETTO:+0000
TZNAME:GMT
DTSTART:20251026T010000
END:STANDARD
BEGIN:DAYLIGHT
TZOFFSETFROM:+0000
TZOFFSETTO:+0100
TZNAME:BST
DTSTART:20260329T010000
END:DAYLIGHT
BEGIN:STANDARD
TZOFFSETFROM:+0100
TZOFFSETTO:+0000
TZNAME:GMT
DTSTART:20261025T010000
END:STANDARD
BEGIN:DAYLIGHT
TZOFFSETFROM:+0000
TZOFFSETTO:+0100
TZNAME:BST
DTSTART:20270328T010000
END:DAYLIGHT
BEGIN:STANDARD
TZOFFSETFROM:+0100
TZOFFSETTO:+0000
TZNAME:GMT
DTSTART:20271031T010000
END:STANDARD
END:VTIMEZONE
BEGIN:VEVENT
DTSTART;TZID=Europe/London:20260418T100000
DTEND;TZID=Europe/London:20260418T120000
DTSTAMP:20260423T155233
CREATED:20260409T120353Z
LAST-MODIFIED:20260409T120353Z
UID:10000334-1776506400-1776513600@www.arocha.nl
SUMMARY:Fête de la nature: bloembommetjes maken op De Parel!
DESCRIPTION:Dorpsakker de Parel viert het feest van de natuur mee! Kom ook op zaterdag 18 april tussen 10.00 en 12.00 naar de tuin om bloembommetjes te maken. Laat zo je omgeving nog meer groeien en bloeien. Koffie\, limonade en wat lekkers staan klaar. \n\n\n\n\n\n\n\n\n\nPraktische informatie\n\n\nAdres\nHolleweg 37\n3958EA Amerongen\nUtrecht \n\n\nTijd 10:00 – 12:00\n\n\nHeb je een vraag\, een briljant idee of suggestie?\nesther.gijsbertsen@arocha.org
URL:https://www.arocha.nl/event/fete-de-la-nature-bloembommetjes-maken-op-de-parel/
LOCATION:Dorpsakker De Parel\, Holleweg 35\, Amerongen\, 3958 EA\, Nederland
CATEGORIES:Dorpsakker De Parel,workshop
ATTACH;FMTTYPE=image/jpeg:https://www.arocha.nl/wp-content/uploads/sites/35/2026/04/parel_bloemen.jpg
ORGANIZER;CN="Dorpsakker De Parel":MAILTO:esther.gijsbertsen@arocha.org
END:VEVENT
BEGIN:VEVENT
DTSTART;TZID=Europe/London:20260314T093000
DTEND;TZID=Europe/London:20260314T123000
DTSTAMP:20260423T155233
CREATED:20260218T075631Z
LAST-MODIFIED:20260218T080432Z
UID:10000309-1773480600-1773491400@www.arocha.nl
SUMMARY:A Rocha Heuvelrug aan de slag op Dorpsakker De Parel
DESCRIPTION:Traditiegetrouw doen we tijdens NLdoet mee met de werkzaamheden op de ecologische moestuin ‘Dorpsakker de Parel’ te Amerongen. Kom je ook? \nDe ochtend begint om 9.30 uur met koffie & instructie en duurt – uiteraard met een koffiepauze – tot 12.30 uur. De Dorpsakker zorgt voor koffie met iets lekkers en soep na afloop. Werkhandschoenen en gereedschap zijn aanwezig. Naast de Dorpsakker zijn parkeerplaatsen.
URL:https://www.arocha.nl/event/a-rocha-heuvelrug-aan-de-slag-op-dorpsakker-de-parel/
LOCATION:Dorpsakker De Parel\, Holleweg 35\, Amerongen\, 3958 EA\, Nederland
CATEGORIES:A Rocha Heuvelrug,Dorpsakker De Parel,natuurwerkdag
ATTACH;FMTTYPE=image/jpeg:https://www.arocha.nl/wp-content/uploads/sites/35/2026/02/Dorpsakker.jpg
ORGANIZER;CN="A Rocha Heuvelrug":MAILTO:heuvelrug@arocha.org
END:VEVENT
BEGIN:VEVENT
DTSTART;TZID=Europe/London:20251101T093000
DTEND;TZID=Europe/London:20251101T123000
DTSTAMP:20260423T155233
CREATED:20251009T112412Z
LAST-MODIFIED:20251009T112412Z
UID:10000243-1761989400-1762000200@www.arocha.nl
SUMMARY:De kruidentuin van dorpsakker de Parel winterklaar maken
DESCRIPTION:Wat ga je doen?\n\n\nDorpsakker de Parel heeft een mooie kruidentuin. We gaan de kruidenplanten snoeien en voorzien van compost. \nOok gaan we aan de slag met het wieden van de kruidentuin en brengen we een mulchlaag aan. Zo is de tuin winterklaar en verwachten we het nieuwe seizoen veel groei en bloei. \nResultaat\nGesnoeide kruidenplanten en een onkruidvrije kruidentuin\, klaar voor de winter. \nPraktische informatie\nKinderen zijn welkom en kunnen helpen met snoeien van de kruidenplanten en het aanbrengen van houtsnippers in de kruidentuin. \nDe coördinator spreekt goed Engels. Mensen die weinig Nederlands spreken kunnen prima meedoen. \nWij zorgen voor een goede catering met koffie/thee en wat lekkers. Aan het einde van de werkochtend serveren we soep. \nGraag even opgeven!
URL:https://www.arocha.nl/event/de-kruidentuin-van-dorpsakker-de-parel-winterklaar-maken/
LOCATION:Dorpsakker De Parel\, Holleweg 35\, Amerongen\, 3958 EA\, Nederland
CATEGORIES:Dorpsakker De Parel,natuurwerkdag
ATTACH;FMTTYPE=image/jpeg:https://www.arocha.nl/wp-content/uploads/sites/35/2024/08/De-Parel.jpeg
ORGANIZER;CN="Dorpsakker De Parel":MAILTO:esther.gijsbertsen@arocha.org
END:VEVENT
BEGIN:VEVENT
DTSTART;TZID=Europe/London:20250920T100000
DTEND;TZID=Europe/London:20250920T130000
DTSTAMP:20260423T155233
CREATED:20250827T112319Z
LAST-MODIFIED:20250827T112600Z
UID:10000205-1758362400-1758373200@www.arocha.nl
SUMMARY:Oogstfeest De Parel
DESCRIPTION:Welkom op het Oogstfeest van Dorpsakker De Parel!\nTijd: 10-13u \nWat is er te doen? \n– koffie/thee/limonade met wat lekkers in de tuin \n– verkoop van De Parel groenten\, bloemen\, jam\, pesto en zaden \n– raad het gewicht van de grootste pompoen \n– kinderactiviteit: bloemenschilderij maken
URL:https://www.arocha.nl/event/oogstfeest-de-parel/
LOCATION:Dorpsakker De Parel\, Holleweg 35\, Amerongen\, 3958 EA\, Nederland
CATEGORIES:Dorpsakker De Parel,feest
ATTACH;FMTTYPE=image/jpeg:https://www.arocha.nl/wp-content/uploads/sites/35/2025/08/parel-oogstfeest.jpeg
ORGANIZER;CN="Dorpsakker De Parel":MAILTO:esther.gijsbertsen@arocha.org
END:VEVENT
BEGIN:VEVENT
DTSTART;TZID=Europe/London:20250723T190000
DTEND;TZID=Europe/London:20250723T210000
DTSTAMP:20260423T155233
CREATED:20250402T110914Z
LAST-MODIFIED:20250402T110914Z
UID:10000168-1753297200-1753304400@www.arocha.nl
SUMMARY:Zomeravond tuinieren op De Parel
DESCRIPTION:Kom in de avond meewerken op Dorpsakker De Parel. Aanmelden is niet nodig. Wees welkom!
URL:https://www.arocha.nl/event/zomeravond-tuinieren-op-de-parel-3/
LOCATION:Dorpsakker De Parel\, Holleweg 35\, Amerongen\, 3958 EA\, Nederland
CATEGORIES:Dorpsakker De Parel,natuurwerkdag
ATTACH;FMTTYPE=image/jpeg:https://www.arocha.nl/wp-content/uploads/sites/35/2023/05/De-Parel_Margreet-scaled.jpg
ORGANIZER;CN="Dorpsakker De Parel":MAILTO:esther.gijsbertsen@arocha.org
END:VEVENT
BEGIN:VEVENT
DTSTART;TZID=Europe/London:20250718T083000
DTEND;TZID=Europe/London:20250718T093000
DTSTAMP:20260423T155233
CREATED:20250423T094113Z
LAST-MODIFIED:20250423T094113Z
UID:10000173-1752827400-1752831000@www.arocha.nl
SUMMARY:Bessenplukken voor de voedselbank
DESCRIPTION:Op vrijdag 18 juli gaan we bessenplukken voor de voedselbank\, van 8.30u tot 9.30u. Kom helpen met het plukken van onze rode – en witte aalbessen. Daarna worden de bessen opgehaald door de Voedselbank en drinken wij koffie in de tuin.
URL:https://www.arocha.nl/event/bessenplukken-voor-de-voedselbank/
LOCATION:Dorpsakker De Parel\, Holleweg 35\, Amerongen\, 3958 EA\, Nederland
CATEGORIES:Dorpsakker De Parel,natuurwerkdag
ATTACH;FMTTYPE=image/png:https://www.arocha.nl/wp-content/uploads/sites/35/2025/04/aalbessen-parel.png
ORGANIZER;CN="Dorpsakker De Parel":MAILTO:esther.gijsbertsen@arocha.org
END:VEVENT
BEGIN:VEVENT
DTSTART;TZID=Europe/London:20250716T193000
DTEND;TZID=Europe/London:20250716T210000
DTSTAMP:20260423T155233
CREATED:20250423T093526Z
LAST-MODIFIED:20250423T135332Z
UID:10000172-1752694200-1752699600@www.arocha.nl
SUMMARY:Workshop Calendulazalf maken
DESCRIPTION:Meld je nu aan voor de workshop Calendulazalf maken op Dorpsakker De Parel op woensdag 16 juli van 19.30-21.00. Je wordt meegenomen in het proces van bloem tot zalf en gaat naar huis met een potje eigengemaakte goudsbloemenzalf.\nEsther Gijsbertsen is de coördinator van dorpsakker de Parel. Ze is gek op bloemen en natuurlijke schoonheidsproducten die je zelf kan maken. Ze leert jullie graag hoe je zelf zalf maakt van bloemen en neemt jullie mee de tuin in op zoek naar goudsbloemen en hun verhaal. Deze avond krijg je koffie/thee met wat lekkers erbij.
URL:https://www.arocha.nl/event/workshop-calendulazalf-maken/
LOCATION:Dorpsakker De Parel\, Holleweg 35\, Amerongen\, 3958 EA\, Nederland
CATEGORIES:Dorpsakker De Parel,workshop
ATTACH;FMTTYPE=image/jpeg:https://www.arocha.nl/wp-content/uploads/sites/35/2025/04/parel-calendula.jpg
ORGANIZER;CN="Dorpsakker De Parel":MAILTO:esther.gijsbertsen@arocha.org
END:VEVENT
BEGIN:VEVENT
DTSTART;TZID=Europe/London:20250709T193000
DTEND;TZID=Europe/London:20250709T210000
DTSTAMP:20260423T155233
CREATED:20250623T085132Z
LAST-MODIFIED:20250623T085132Z
UID:10000190-1752089400-1752094800@www.arocha.nl
SUMMARY:Natuurtekenen met oliepastelkrijt op De Parel
DESCRIPTION:Kom ook verwonderen en observeren en maak een mooie tekening.  Lucia (oud-vrijwilligster bij De Parel) legt de techniek van werken met oliepastelkrijt uit en voorziet je van inspiratie en tips. \nKosten: 15 euro pp\, inclusief koffie/thee en wat lekkers. Meld je aan via esther.gijsbertsen@arocha.org.
URL:https://www.arocha.nl/event/natuurtekenen-met-oliepastelkrijt-op-de-parel/
LOCATION:Dorpsakker De Parel\, Holleweg 35\, Amerongen\, 3958 EA\, Nederland
CATEGORIES:Dorpsakker De Parel,workshop
ATTACH;FMTTYPE=image/png:https://www.arocha.nl/wp-content/uploads/sites/35/2025/06/Scherm­afbeelding-2025-06-23-om-10.50.22.png
ORGANIZER;CN="Dorpsakker De Parel":MAILTO:esther.gijsbertsen@arocha.org
END:VEVENT
BEGIN:VEVENT
DTSTART;TZID=Europe/London:20250625T190000
DTEND;TZID=Europe/London:20250625T210000
DTSTAMP:20260423T155233
CREATED:20250402T110624Z
LAST-MODIFIED:20250402T110624Z
UID:10000167-1750878000-1750885200@www.arocha.nl
SUMMARY:Zomeravond tuinieren op De Parel
DESCRIPTION:Kom in de avond meewerken op Dorpsakker De Parel. Aanmelden is niet nodig. Wees welkom!
URL:https://www.arocha.nl/event/zomeravond-tuinieren-op-de-parel-2/
LOCATION:Dorpsakker De Parel\, Holleweg 35\, Amerongen\, 3958 EA\, Nederland
CATEGORIES:Dorpsakker De Parel,natuurwerkdag
ATTACH;FMTTYPE=image/jpeg:https://www.arocha.nl/wp-content/uploads/sites/35/2024/06/De-Parel.jpeg
ORGANIZER;CN="Dorpsakker De Parel":MAILTO:esther.gijsbertsen@arocha.org
END:VEVENT
BEGIN:VEVENT
DTSTART;TZID=Europe/London:20250618T193000
DTEND;TZID=Europe/London:20250618T210000
DTSTAMP:20260423T155233
CREATED:20250423T093156Z
LAST-MODIFIED:20250423T093156Z
UID:10000171-1750275000-1750280400@www.arocha.nl
SUMMARY:Workshop Ontdek de veelzijdigheid van de brandnetel
DESCRIPTION:Ontdek de veelzijdigheid van de brandnetel. Kom meer te weten over de werking van de brandnetel en wat je er allemaal mee kunt voor je tuin en voor jezelf.\nKoffie met wat lekkers inbegrepen\, 15 euro p/p
URL:https://www.arocha.nl/event/workshop-ontdek-de-veelzijdigheid-van-de-brandnetel/
LOCATION:Dorpsakker De Parel\, Holleweg 35\, Amerongen\, 3958 EA\, Nederland
CATEGORIES:Dorpsakker De Parel,workshop
ATTACH;FMTTYPE=image/png:https://www.arocha.nl/wp-content/uploads/sites/35/2025/04/Kopie-van-beeld-bij-nieuwsbrief-1.png
ORGANIZER;CN="Dorpsakker De Parel":MAILTO:esther.gijsbertsen@arocha.org
END:VEVENT
BEGIN:VEVENT
DTSTART;TZID=Europe/London:20250528T190000
DTEND;TZID=Europe/London:20250528T210000
DTSTAMP:20260423T155233
CREATED:20250402T110405Z
LAST-MODIFIED:20250402T110405Z
UID:10000166-1748458800-1748466000@www.arocha.nl
SUMMARY:Zomeravond tuinieren op De Parel
DESCRIPTION:Kom in de avond meewerken op Dorpsakker De Parel. Aanmelden is niet nodig. Wees welkom!
URL:https://www.arocha.nl/event/zomeravond-tuinieren-op-de-parel/
LOCATION:Dorpsakker De Parel\, Holleweg 35\, Amerongen\, 3958 EA\, Nederland
CATEGORIES:Dorpsakker De Parel,natuurwerkdag
ATTACH;FMTTYPE=image/jpeg:https://www.arocha.nl/wp-content/uploads/sites/35/2023/05/Bloemen-op-de-Parel.jpg
ORGANIZER;CN="Dorpsakker De Parel":MAILTO:esther.gijsbertsen@arocha.org
END:VEVENT
BEGIN:VEVENT
DTSTART;TZID=Europe/London:20250517T100000
DTEND;TZID=Europe/London:20250517T120000
DTSTAMP:20260423T155233
CREATED:20250423T092759Z
LAST-MODIFIED:20250423T092759Z
UID:10000170-1747476000-1747483200@www.arocha.nl
SUMMARY:Lentemarkt op de Parel
DESCRIPTION:Kom de lente proeven op dorpsakker de Parel. Er is koffie met wat lekkers in de tuin. En er is verkoop van lente groenten zoals\, asperges\, rabarber\, sla\, radijsjes en raapstelen. Er is een proeverij en een leuke activiteit voor kinderen (bodemzoekkaart)
URL:https://www.arocha.nl/event/lentemarkt-op-de-parel/
LOCATION:Dorpsakker De Parel\, Holleweg 35\, Amerongen\, 3958 EA\, Nederland
CATEGORIES:Dorpsakker De Parel
ATTACH;FMTTYPE=image/jpeg:https://www.arocha.nl/wp-content/uploads/sites/35/2024/09/De-Parel-oogstfeest-2.jpg
ORGANIZER;CN="Dorpsakker De Parel":MAILTO:esther.gijsbertsen@arocha.org
END:VEVENT
BEGIN:VEVENT
DTSTART;TZID=Europe/London:20250507T190000
DTEND;TZID=Europe/London:20250507T210000
DTSTAMP:20260423T155233
CREATED:20250402T105513Z
LAST-MODIFIED:20250402T105539Z
UID:10000165-1746644400-1746651600@www.arocha.nl
SUMMARY:Lippenbalsem maken (ouder – kind workshop) bij Dorpsakker De Parel
DESCRIPTION:Een origineel en zelfgemaakt cadeautje voor Moederdag? Kom dan op woensdagavond 7 mei naar dorpsakker de Parel om een lippenbalsem te maken van natuurlijke ingrediënten. Elk persoon gaat naar huis met een eigen gemaakte lippenbalsem. Je geeft je op als duo ouder/kind. De prijs van € 15\,00 is voor ouder én kind.\nSamen lippenbalsem maken en genieten van thee uit eigen tuin met wat lekkers erbij. En een rondje over de Parel waarbij je al je zintuigen gebruikt\, zit ook in het avondprogramma.\nEsther Gijsbertsen is de coördinator van dorpsakker de Parel. Ze is gek op bloemen en natuurlijke schoonheidsproducten die je zelf kan maken. Ze leert jullie graag de lippenbalsem maken en neemt jullie mee voor een rondje proeven\, ruiken en voelen door de tuin. Deze workshop is in samenwerking met Wijzer op de Heuvelrug. Geef je snel op!
URL:https://www.arocha.nl/event/9249/
LOCATION:Dorpsakker De Parel\, Holleweg 35\, Amerongen\, 3958 EA\, Nederland
CATEGORIES:Dorpsakker De Parel,workshop
ATTACH;FMTTYPE=image/jpeg:https://www.arocha.nl/wp-content/uploads/sites/35/2025/04/lippenbalsem.jpg
ORGANIZER;CN="Dorpsakker De Parel":MAILTO:esther.gijsbertsen@arocha.org
END:VEVENT
END:VCALENDAR