BEGIN:VCALENDAR
VERSION:2.0
PRODID:-//A Rocha Nederland - ECPv6.15.20//NONSGML v1.0//EN
CALSCALE:GREGORIAN
METHOD:PUBLISH
X-ORIGINAL-URL:https://www.arocha.nl
X-WR-CALDESC:Evenementen voor A Rocha Nederland
REFRESH-INTERVAL;VALUE=DURATION:PT1H
X-Robots-Tag:noindex
X-PUBLISHED-TTL:PT1H
BEGIN:VTIMEZONE
TZID:Europe/London
BEGIN:DAYLIGHT
TZOFFSETFROM:+0000
TZOFFSETTO:+0100
TZNAME:BST
DTSTART:20250330T010000
END:DAYLIGHT
BEGIN:STANDARD
TZOFFSETFROM:+0100
TZOFFSETTO:+0000
TZNAME:GMT
DTSTART:20251026T010000
END:STANDARD
BEGIN:DAYLIGHT
TZOFFSETFROM:+0000
TZOFFSETTO:+0100
TZNAME:BST
DTSTART:20260329T010000
END:DAYLIGHT
BEGIN:STANDARD
TZOFFSETFROM:+0100
TZOFFSETTO:+0000
TZNAME:GMT
DTSTART:20261025T010000
END:STANDARD
BEGIN:DAYLIGHT
TZOFFSETFROM:+0000
TZOFFSETTO:+0100
TZNAME:BST
DTSTART:20270328T010000
END:DAYLIGHT
BEGIN:STANDARD
TZOFFSETFROM:+0100
TZOFFSETTO:+0000
TZNAME:GMT
DTSTART:20271031T010000
END:STANDARD
END:VTIMEZONE
BEGIN:VEVENT
DTSTART;TZID=Europe/London:20260314T090000
DTEND;TZID=Europe/London:20260314T123000
DTSTAMP:20260424T055251
CREATED:20260212T145823Z
LAST-MODIFIED:20260216T083100Z
UID:10000301-1773478800-1773491400@www.arocha.nl
SUMMARY:NL Doet op dorpsakker de Parel
DESCRIPTION:Dit jaar willen we nog meer bloemen in de moestuin. Voor vergroting van de biodiversiteit. En om met onze zelfgekweekte plukboeketten een gezonde bos bloemen voor mensen te verzorgen. We gaan dus voor nog meer groei en bloei op dorpsakker de Parel.\nWe gaan de zaaibedden voor bereiden door de winter mulchlaag te verwijderen\, onkruid te wieden\, de grond los te maken en compost aan te brengen. Zaaien is afhankelijk van het weer en de bloemsoort.
URL:https://www.arocha.nl/event/nl-doet-op-dorpsakker-de-parel/
LOCATION:Amerongen\, Holleweg 35\, Amerongen\, 3958 EA
CATEGORIES:Dorpsakker De Parel,natuurwerkdag
ATTACH;FMTTYPE=image/jpeg:https://www.arocha.nl/wp-content/uploads/sites/35/2026/02/1000074519-2.jpg
ORGANIZER;CN="Dorpsakker De Parel":MAILTO:esther.gijsbertsen@arocha.org
END:VEVENT
END:VCALENDAR